BEGIN:VCALENDAR
VERSION:2.0
PRODID:-//האנגר 11 - ECPv4.9.10//NONSGML v1.0//EN
CALSCALE:GREGORIAN
METHOD:PUBLISH
X-WR-CALNAME:האנגר 11
X-ORIGINAL-URL:https://hangar11.co.il/events
X-WR-CALDESC:Events for האנגר 11
BEGIN:VTIMEZONE
TZID:Asia/Jerusalem
BEGIN:DAYLIGHT
TZOFFSETFROM:+0200
TZOFFSETTO:+0300
TZNAME:IDT
DTSTART:20160325T000000
END:DAYLIGHT
BEGIN:STANDARD
TZOFFSETFROM:+0300
TZOFFSETTO:+0200
TZNAME:IST
DTSTART:20161029T230000
END:STANDARD
END:VTIMEZONE
BEGIN:VEVENT
DTSTART;VALUE=DATE:20160630
DTEND;VALUE=DATE:20160702
DTSTAMP:20260420T134708
CREATED:20160317T130438Z
LAST-MODIFIED:20160317T130438Z
UID:621-1467262800-1467349199@hangar11.co.il
SUMMARY:: МАКС КОРЖ впервые в Израиле
DESCRIPTION:description: \nНачинаем новый 2016-й год с отличных новостей! Teapus Рэп и G & M ProductZion представляют совместный проект . 30 июня\, Впервые на израильской СЦЕНЕ даст концерт звезда нового времени Макс Корж.\n  \nВстречаемся в Ангар 11.\nВся информация в ближайшее время\, следите за новостями\,\nрапрострайняте информацию\, приглашайте друзей!\n  \nТелефоны для справок: 0502115974\, 0527449842\, 0526658994\, 0527096703\, 0542286123\,\n0526172052\n
URL:https://hangar11.co.il/events/event/%d0%bc%d0%b0%d0%ba%d1%81-%d0%ba%d0%be%d1%80%d0%b6-%d0%b2%d0%bf%d0%b5%d1%80%d0%b2%d1%8b%d0%b5-%d0%b2-%d0%b8%d0%b7%d1%80%d0%b0%d0%b8%d0%bb%d0%b5/
LOCATION:favicon
ATTACH;FMTTYPE=:
END:VEVENT
END:VCALENDAR