BEGIN:VCALENDAR
VERSION:2.0
PRODID:-//האנגר 11 - ECPv4.9.10//NONSGML v1.0//EN
CALSCALE:GREGORIAN
METHOD:PUBLISH
X-WR-CALNAME:האנגר 11
X-ORIGINAL-URL:https://hangar11.co.il/events
X-WR-CALDESC:Events for האנגר 11
BEGIN:VTIMEZONE
TZID:Asia/Jerusalem
BEGIN:DAYLIGHT
TZOFFSETFROM:+0200
TZOFFSETTO:+0300
TZNAME:IDT
DTSTART:20170324T000000
END:DAYLIGHT
BEGIN:STANDARD
TZOFFSETFROM:+0300
TZOFFSETTO:+0200
TZNAME:IST
DTSTART:20171028T230000
END:STANDARD
END:VTIMEZONE
BEGIN:VEVENT
DTSTART;TZID=Asia/Jerusalem:20170111T220000
DTEND;TZID=Asia/Jerusalem:20170111T170000
DTSTAMP:20260419T212928
CREATED:20161124T095217Z
LAST-MODIFIED:20161124T095217Z
UID:723-1484172000-1484154000@hangar11.co.il
SUMMARY:אביב גפן "עכשיו מעונן"
DESCRIPTION:במסגרת פסטיבל גולדסטאר סאונד סיסטם\nאביב גפן\, כוכב הרוק הגדול בארץ\, יפתח את הפסטיבל עם הופעה שתוקדש לאלבומו השני והמשמעותי "עכשיו מעונן" שיצא ב-1993. האלבום הפך את גפן לכוכב מקומי ענק\, סחף אחריו מעריצים רבים ועורר הדים סביב הטקסטים של אביב בשירים "בוכה על הקבר"\, "אני שונא" ובשיר הנושא "עכשיו מעונן"\, הכולל את הצעקה המפורסמת "אנחנו דור מזוין"\, שלימים הפכה לביטוי שגור. עוד כלל האלבום את הלהיטים הגדולים הנוספים: "שיר הסמרטוטים"\, "על הכנרת בזריחה"\, "אל תדאג" ועוד.\nזמן קצר לאחר יציאתו\, האלבום מכר למעלה מ-20\,000 עותקים וקיבל מעמד של אלבום זהב\, באותה השנה גפן הוכתר כ"זמר השנה" במצעד השנתי העברי של רשת ג'. ובהמשך האלבום הגיע למעמד "פלטינה כפולה" עם מכירות של מעל ל-80\,000 עותקים.\nבהופעה גפן ילווה בלהקתו הקבועה "התעויוט"\, המופיעים יחד איתו מזה 25 שנה על הבמות הגדולות בארץ בסטנדרט הפקה וסאונד בינלאומיים.\nהרכב להקת התעויוט:\nהראל בן עמי- גיטרות | עומרי אגמון- גיטרות | שלומי קינן- קלידים\, המונד\, סמפלים | ערן מיטלמן- פסנתר / קלידים | הגר גרין- בס | תומר צדקיהו- תופים \n
URL:https://hangar11.co.il/events/event/%d7%90%d7%91%d7%99%d7%91-%d7%92%d7%a4%d7%9f-%d7%a2%d7%9b%d7%a9%d7%99%d7%95-%d7%9e%d7%a2%d7%95%d7%a0%d7%9f/
LOCATION:האנגר 11\, Israel
CATEGORIES:גולדסטאר סאונד סיסטם
ATTACH;FMTTYPE=image/jpeg:https://hangar11.co.il/events/wp-content/uploads/2016/11/375x1070_אביב.jpg
GEO:32.0964756;34.7740091
END:VEVENT
END:VCALENDAR