BEGIN:VCALENDAR
VERSION:2.0
PRODID:-//האנגר 11 - ECPv4.9.10//NONSGML v1.0//EN
CALSCALE:GREGORIAN
METHOD:PUBLISH
X-WR-CALNAME:האנגר 11
X-ORIGINAL-URL:https://hangar11.co.il/events
X-WR-CALDESC:Events for האנגר 11
BEGIN:VTIMEZONE
TZID:Asia/Jerusalem
BEGIN:DAYLIGHT
TZOFFSETFROM:+0200
TZOFFSETTO:+0300
TZNAME:IDT
DTSTART:20220325T000000
END:DAYLIGHT
BEGIN:STANDARD
TZOFFSETFROM:+0300
TZOFFSETTO:+0200
TZNAME:IST
DTSTART:20221029T230000
END:STANDARD
END:VTIMEZONE
BEGIN:VEVENT
DTSTART;TZID=Asia/Jerusalem:20220917T214500
DTEND;TZID=Asia/Jerusalem:20220917T214500
DTSTAMP:20260419T155708
CREATED:20220810T103341Z
LAST-MODIFIED:20220810T103429Z
UID:5001-1663451100-1663451100@hangar11.co.il
SUMMARY:אדיר גץ
DESCRIPTION:אדיר גץ\, מהזמרים יוצרים המצליחים והמוערכים ביותר היום בישראל. \nבצניעות ועם עבודת שטח קשה ועקבית\, הצליח גץ לכבוש את לב הקהל הרחב עם שיריו\, כשהוא חתום על כמה מהלהיטים הגדולים של השנים האחרונות – "אני אוהב\, אני מכור\, אני שרוף"\, "עשר אפס לך"\, ״בדיוק כמו שהיא"\,\nתמיד נשארת"\, ״דירה קטנה בחיפה״\,"לא ביקשתי מלחמה"\, ״ילד בשדות״\, ״מיליונרים״ ועוד..) – שירים שחצו גילאים\, מגדרים והפכו אותו לאחד מיצרני הלהיטים הבולטים בעשור האחרון בישראל. \nאת כל אותם להיטים אלו יבצע בהופעת הענק השנייה שלו בהאנגר 11 ת"א שם גם יארח אורחים מפתיעים. \nאדיר נחשב לפרפורמר ענק בהופעות חיות אשר מעביר הופעה על כל גווניה\, החל מרגש וביצועים מיוחדים על פסנתר ועד לשירים מקפיצים שלא משאירים אף אחד על הכיסא \n
URL:https://hangar11.co.il/events/event/%d7%90%d7%93%d7%99%d7%a8-%d7%92%d7%a5/
LOCATION:האנגר 11\, יורדי הסירה 1\, תל אביב\, Israel
CATEGORIES:מזרחית,מיינסטרים
ATTACH;FMTTYPE=image/jpeg:https://hangar11.co.il/events/wp-content/uploads/2022/08/אדיר-גץ-האנגר-11-באנר-סטודיו-ירין-אלוש.jpg
END:VEVENT
END:VCALENDAR