BEGIN:VCALENDAR
VERSION:2.0
PRODID:-//האנגר 11 - ECPv4.9.10//NONSGML v1.0//EN
CALSCALE:GREGORIAN
METHOD:PUBLISH
X-WR-CALNAME:האנגר 11
X-ORIGINAL-URL:https://hangar11.co.il/events
X-WR-CALDESC:Events for האנגר 11
BEGIN:VTIMEZONE
TZID:Asia/Jerusalem
BEGIN:DAYLIGHT
TZOFFSETFROM:+0200
TZOFFSETTO:+0300
TZNAME:IDT
DTSTART:20180323T000000
END:DAYLIGHT
BEGIN:STANDARD
TZOFFSETFROM:+0300
TZOFFSETTO:+0200
TZNAME:IST
DTSTART:20181027T230000
END:STANDARD
END:VTIMEZONE
BEGIN:VEVENT
DTSTART;TZID=Asia/Jerusalem:20180111T220000
DTEND;TZID=Asia/Jerusalem:20180111T220000
DTSTAMP:20260422T065245
CREATED:20171220T173147Z
LAST-MODIFIED:20171220T202051Z
UID:1423-1515708000-1515708000@hangar11.co.il
SUMMARY:אהוד בנאי והפליטים מופע פותח: ארז לב ארי
DESCRIPTION:בשלהי קיץ 1987 פרץ לעולם האלבום "אהוד בנאי והפליטים"\, ופרץ דרך חדשה ולא סלולה במרחב המוסיקלי הישראלי. אלבום בכורה שלא נשמע כמו שום דבר אחר שקדם לו. הוא הציג שילוב של מערב ומזרח\, גיטרות חשמליות של "גל חדש" שמנסרות את האוויר בשילוב שירה טרובדורית מלאת כנות וחום.\nאלבום הבכורה הציג את אהוד בנאי\, מוסיקאי שעבר תקופה ארוכה של חיפוש \, התלבטויות וניסיונות עד שהגיע להגשמת חלום\, האלבום הראשון עם להקת "הפליטים" – ז'אן ז'אק גולדברג (תופים)\, שעלה לארץ מבלגיה\, נדד בין מסגרות שונות\, ניגן עם טובי האמנים\, וחי לסירוגין בישראל ובצרפת\, עד שנפטר מסרטן ב-2006; גיל סמטנה (בס)\, שנע בין הרוק לקלאסי\, ניגן והפיק לאמנים רבים ומנגן עם בנאי עד היום\, נעם זייד הלוי (כלי הקשה)\, שנע בין תל אביב לראש פינה ומחזק הצד "הגלילי" ביצירה\, ויוסי אלפנט (גיטרות והפקה מוסיקלית). אלפנט\, העזר כנגדו של בנאי\, שעיצב במידה רבה את הצליל המיוחד של הפליטים\, מוסיקאי מחונן שנסק וזהר תקופה קצרה עד למותו ממום בלב בגיל 32.\nיחד התחברו לחבורת מוסיקאים שהיו "סוג של פליטים בתוך ההוויה הישראלית"\, כהגדרת בנאי\, יחד הם יצרו יצירה מוסיקלית ייחודית שנבעה מהמבט החודר והנוקב ממקומם ה"אחר"\, על אותה הוויה.\nבהופעה יבוצעו כל שירי האלבום המקורי לצד שירי התקופה כמו "א יידישע רסטהמאן"\, "קסם גלילי" ועוד\, שבוצעו בהופעה החיה ב-1988 המצורפת לתקליט.\nגיל סמטנה – בס והפקה מוסיקלית // ערן פורת – תופים // נושי פז – גיטרות // אלעד כהן בונן – כלי הקשה וסאמפלר // מאיה בלזיצמן – שירה וצ'לו// אורי קצנשטיין – תנועה \n
URL:https://hangar11.co.il/events/event/%d7%90%d7%94%d7%95%d7%93-%d7%91%d7%a0%d7%90%d7%99-%d7%95%d7%94%d7%a4%d7%9c%d7%99%d7%98%d7%99%d7%9d-%d7%9e%d7%95%d7%a4%d7%a2-%d7%a4%d7%95%d7%aa%d7%97-%d7%90%d7%a8%d7%96-%d7%9c%d7%91-%d7%90%d7%a8%d7%99/
LOCATION:האנגר 11\, Israel
ATTACH;FMTTYPE=image/png:https://hangar11.co.il/events/wp-content/uploads/2017/12/GSS_870_400-1.png
GEO:32.0964756;34.7740091
END:VEVENT
END:VCALENDAR