BEGIN:VCALENDAR
VERSION:2.0
PRODID:-//האנגר 11 - ECPv4.9.10//NONSGML v1.0//EN
CALSCALE:GREGORIAN
METHOD:PUBLISH
X-WR-CALNAME:האנגר 11
X-ORIGINAL-URL:https://hangar11.co.il/events
X-WR-CALDESC:Events for האנגר 11
BEGIN:VTIMEZONE
TZID:Asia/Jerusalem
BEGIN:DAYLIGHT
TZOFFSETFROM:+0200
TZOFFSETTO:+0300
TZNAME:IDT
DTSTART:20180323T000000
END:DAYLIGHT
BEGIN:STANDARD
TZOFFSETFROM:+0300
TZOFFSETTO:+0200
TZNAME:IST
DTSTART:20181027T230000
END:STANDARD
END:VTIMEZONE
BEGIN:VEVENT
DTSTART;TZID=Asia/Jerusalem:20180117T220000
DTEND;TZID=Asia/Jerusalem:20180117T220000
DTSTAMP:20260419T130201
CREATED:20171220T173154Z
LAST-MODIFIED:20171220T192610Z
UID:1429-1516226400-1516226400@hangar11.co.il
SUMMARY:אמיר דדון – אורחת מיוחדת: נינט טייב
DESCRIPTION:מופע השקה חגיגי לרגל צאת אלבומו השלישי \nבימים אלה משיק דדון את אלבומו השלישי ממנו יצאו כבר הלהיטים: "כל יום כמו נס"\, "לבחור נכון" ו"עוד נוסעים". דדון פרץ לתודעה בשנת 2008 עם השירים "שאריות של החיים" מהפרויקט של עידן רייכל ו"אור גדול" אותו כתב והלחין. שנתיים לאחר מכן יצא אלבום הבכורה שלו "אמיר דדון" שכלל את הלהיטים: "אור גדול" \,"חלל"\,"חצי" ו"גלים". בהופעה תתארח נינט טייב לביצועים משותפים ומפתיעים עם דדון ולהקתו.\nבעקבות הצלחת האלבום (אלבום זהב)\, זכה דדון בפרס אקו"ם בקטגוריית "תגלית השנה". במקביל השתתף במחזמר "לילה לא שקט" בתאטרון הקמארי וזכה בפרס "תגלית השנה בתאטרון". בשנת 2013 יצא אלבומו השני "יש אין סוף" מתוכו בלטו הלהיטים "לא סתם"\, "בגלגול אחר"\, "יש אין סוף" והעיבוד המחודש לשירו של שלום חנוך "נגד הרוח".\nבשנים האחרונות פרץ דדון אל מרכז התודעה הישראלית והפך להיות שם מוכר בכל בית\, שיתף פעולה עם מיטב האמנים בהם: עידן רייכל\, שלמה ארצי\, ריטה\, ארקדי דוכין\, מתי כספי ועוד והפך לאחד היוצרים והזמרים העסוקים והמבוקשים בישראל\, עם קול גדול וטונות של סטאר קוואליטי\, רצף להיטים\, שני אלבומים מצליחים וכעת אלבום חדש ושלישי.\nמאז אוגוסט 2016 משחק דדון בתפקיד הראשי (ז'אן ולז'אן) בהצגה "עלובי החיים" (תאטרון הבימה)\, עבורו זכה בפרס "השחקן הטוב ביותר במחזמר" (פרסי התאטרון 2017 ) ובקברט הרוק "לילה 1 באפריל" (תאטרון הבימה)\, פרי יצירתה של קרן פלס \n
URL:https://hangar11.co.il/events/event/%d7%90%d7%9e%d7%99%d7%a8-%d7%93%d7%93%d7%95%d7%9f-%d7%90%d7%95%d7%a8%d7%97%d7%aa-%d7%9e%d7%99%d7%95%d7%97%d7%93%d7%aa-%d7%a0%d7%99%d7%a0%d7%98-%d7%98%d7%99%d7%99%d7%91/
LOCATION:האנגר 11\, Israel
ATTACH;FMTTYPE=image/png:https://hangar11.co.il/events/wp-content/uploads/2017/12/GSS_870_400_Amir_new.png
GEO:32.0964756;34.7740091
END:VEVENT
END:VCALENDAR