BEGIN:VCALENDAR
VERSION:2.0
PRODID:-//האנגר 11 - ECPv4.9.10//NONSGML v1.0//EN
CALSCALE:GREGORIAN
METHOD:PUBLISH
X-WR-CALNAME:האנגר 11
X-ORIGINAL-URL:https://hangar11.co.il/events
X-WR-CALDESC:Events for האנגר 11
BEGIN:VTIMEZONE
TZID:Asia/Jerusalem
BEGIN:DAYLIGHT
TZOFFSETFROM:+0200
TZOFFSETTO:+0300
TZNAME:IDT
DTSTART:20200327T000000
END:DAYLIGHT
BEGIN:STANDARD
TZOFFSETFROM:+0300
TZOFFSETTO:+0200
TZNAME:IST
DTSTART:20201024T230000
END:STANDARD
END:VTIMEZONE
BEGIN:VEVENT
DTSTART;TZID=Asia/Jerusalem:20200109T210000
DTEND;TZID=Asia/Jerusalem:20200109T210000
DTSTAMP:20260420T144530
CREATED:20191118T090919Z
LAST-MODIFIED:20191209T190810Z
UID:3502-1578603600-1578603600@hangar11.co.il
SUMMARY:אמיר דדון מארח את Full Trunk - נפתח אירוע נוסף
DESCRIPTION:לאחר תקופה מדהימה עם רצף הצלחות חוזר אמיר דדון\, אשר הפך לאחד האמנים הבולטים והאהובים\, לאלבום הבכורה שלו "אמיר דדון" אשר יצא בדיוק לפני עשור ולשירים איתם התחיל את דרכו. \n"חלל"\, "בזמן האחרון"\, "גלים"\, "חצי"\, "אור גדול" הם רק חלק מהשירים איתם פרץ באלבומו הראשון "אמיר דדון" שזכה במעמד "אלבום זהב" ובפרס "תגלית השנה" של אקו"ם ואשר סללו את דרכו להיות אחד מהאמנים המוערכים בעשור האחרון. \nבשנים האחרונות פרץ דדון אל מרכז התודעה הישראלית והפך להיות שם מוכר בכל בית\, שיתף פעולה עם מיטב האמנים בהם: עידן רייכל\, שלמה ארצי\, ריטה\, ארקדי דוכין\, מתי כספי ועוד והפך לאחד היוצרים והזמרים העסוקים והמבוקשים\, עם קול גדול וטונות של סטאר קוואליטי\, רצף להיטים\, שלושה אלבומים מצליחים ואלבום רביעי שבדרך. \nבחלקו הראשון של המופע יחזור דדון לאלבומו הראשון ובחלקו השני ישיר עוד משיריו האהובים מהתקופה האחרונה-  "לבחור נכון"\, "כל יום כמו נס"\, "בנאדם"\, "עדיין ילד"\, "בין קודש לחול" ואחרים ויארח הרכב מוזיקלי מוכשר ומצליח “Full Trunk”. \n
URL:https://hangar11.co.il/events/event/%d7%90%d7%9e%d7%99%d7%a8-%d7%93%d7%93%d7%95%d7%9f-%d7%9e%d7%90%d7%a8%d7%97-%d7%90%d7%aa-full-trunk/
LOCATION:האנגר 11\, Israel
CATEGORIES:גולדסטאר סאונד סיסטם,מיינסטרים,רוק,רוק ישראלי
ATTACH;FMTTYPE=image/jpeg:https://hangar11.co.il/events/wp-content/uploads/2019/11/show_pic19379_img_1.jpg
GEO:32.0964756;34.7740091
END:VEVENT
END:VCALENDAR