BEGIN:VCALENDAR
VERSION:2.0
PRODID:-//האנגר 11 - ECPv4.9.10//NONSGML v1.0//EN
CALSCALE:GREGORIAN
METHOD:PUBLISH
X-WR-CALNAME:האנגר 11
X-ORIGINAL-URL:https://hangar11.co.il/events
X-WR-CALDESC:Events for האנגר 11
BEGIN:VTIMEZONE
TZID:Asia/Jerusalem
BEGIN:DAYLIGHT
TZOFFSETFROM:+0200
TZOFFSETTO:+0300
TZNAME:IDT
DTSTART:20190329T000000
END:DAYLIGHT
BEGIN:STANDARD
TZOFFSETFROM:+0300
TZOFFSETTO:+0200
TZNAME:IST
DTSTART:20191026T230000
END:STANDARD
END:VTIMEZONE
BEGIN:VEVENT
DTSTART;TZID=Asia/Jerusalem:20191010T160000
DTEND;TZID=Asia/Jerusalem:20191026T220000
DTSTAMP:20260419T200647
CREATED:20190922T131614Z
LAST-MODIFIED:20190922T131614Z
UID:3339-1570723200-1572127200@hangar11.co.il
SUMMARY:אמנות היומיום – אמנות שימושית ועיצוב מהונגריה וקאפה חוזר לישראל
DESCRIPTION:  \n"אמנות היומיום – אמנות שימושית ועיצוב מהונגריה"  \nהתערוכה של האמנות השימושית והעיצוב של האקדמיה ההונגרית לאמנויות (MMA)  רוצה להציג את הפנים העכשוויות של תחומי האמנות הללו. מטרת התערוכה להציג את תחומי עבודת היד והעיצוב עם תחומי הביניים וההשפעות ההדדיות דרך הצגת העבודה היומיומית של האמנים. \nהתערוכה הינה פרויקט במסגרת שנת תרבות הונגריה בישראל\,  באזור הכי תוסס וצבעוני של העיר תל אביב: בנמל. \nלאחר גיבוש הקונספט\, האתגר הגדול עבור ארנו שארה\, חבר MMA\, אוצר התערוכה היה המקום המיוחד\, וסידור היצירות במרחב כך שיעניקו לקהל הישראלי את החוויה המעניינת והאינפורמטיבית ביותר. בתערוכה יופיעו הזרמים הכי אופייניים של האמנות השימושית והעיצוב ההונגרים\, כמו כן יוצגו היצירות המיוחדות ביותר: בין היתר\, עבודות של מעצבי תכשיטים צעירים (קריסטיאן אדם ואריקה שוטו)\, הגובלן של אדית בלוג ואווה פנקלה\, ויצירה ייחודית בסגנון מעורב של אידה לנצ'ש. בתערוכה יוצג בגד עור בעיבוד לייזר של אמן העור אימרה מולנר\, חבר חיצוני של MMA\, ואוסף כלי הנגינה הייחודים של המעצב פטר אובגש\, בינהם כלי מיתר אלקטרוניים ללא אקוסטיקה\, המשקפים את מפעל החיים של האמן העובד עם צורות נקיות ועיקולים עדינים. חפצי הקרמיקה של יוליה נמה\, ויצירותיו עם גלזורת קריסטל של אישטוואן ברתה מייצגים את אמנות הקרמיקה והפורצלן\, העבודות של פטר בורקוביץ' ואגנש סמטנה מייצגות את תחום עיצוב הזכוכית בעיבוד קר וחם. תינתן במה לאמנים לעיצוב הפלקטים המפורסמים בעולם: יוז'ף ארנדאש ואישטוואן אורוס\, שניהם חברי MMA\, לשני אף תוצג עבודת אנאמורפוזה אחת. \nאמן הכבוד של התערוכה הוא המעצב הישראלי דן רייזינגר\, אשר נולד במדיירקניז'ה\, חבר באגודת הפלקטים ההונגרית. בחנוכת הפסל שהוא פיסל\, אשר מנציח את קורבנות השואה ברובע יוז'ף-ווארוש בבודפשט\, נכחו באפריל 2016 לצד משפחת האמן גם השגריר הישראלי בהונגריה יחד עם חברי הפרלמנט ההונגרי ונציגי העירייה. \nכמו כן\, יוצגו בתערוכה גם חידושי עיצוב הספורט וכלי רכב\, כגון דגמי כלי רכב שעוצבו במסגרת שיתוף הפעולה עם מרצדס בנץ א.ג. על ידי מעצבים הונגריה צעירים\, כמו כן\, ספינת המפרש של דוד ברצקי שזכתה לפרס פרימוס דינגי בשל עיצובה המודרני והבטיחותי כאחד. \n"קאפה חוזר לישראל" \nמרכז קאפה ההונגרי מביא לישראל לכבוד שנת תרבות הונגריה ו30 שנה לכינון היחסים בין ישראל להונגריה.  תערוכה מיוחדת מיצירותיו של אמן הצילום היהודי הונגרי המפורסם רוברט קאפה שצילם בישראל בשנים הראשונות למדינה. \nרוברט קאפה (1913 – 1954) נולד בשם אנדרה פרידמן בבודפשט ובחייו הקצרים הוא הצליח להפוך לאחד הצלמים המוערכים בעולם. הוא צילם מאורעות בולטים במאה ה-20 ויצר עולם שלם של עבודות אמנות מרשימות ומרגשות. הודות להומניזם הטבוע בו רוברט נתן השראה לדורות הבאים של צלמי עיתונות. קאפה צילם בישראל בשלוש הזדמנויות שונות בין השנים 1948 ל-1950. באמצעות המצלמה הוא תפס את המציאות של ישראל הצעירה\, צילם את הגעת המעפילים\, את המעברות\, את הבתים הראשונים ובמיוחד את האנשים על שמחותיהם\, ציפיותיהם ומצוקותיהם. תצלומיו של רוברט מבטאים את רוח התקופה הקשה אך האופטימית של קום המדינה. \nהצלם האגדי הראה את חיי היומיום של החלוצים עם כל האידיאליזם\, הנאיביות והכאב של הווייתם. העבודות שמגיעות ארצה מתארות אירועים מכוננים אולם החשוב מכל הוא שהן מראות רגעים סמליים מחיי האנשים באותם ימים. בביקוריו בישראל קאפה לא התבונן במתרחש מהצד. הוא לקח חלק פעיל באירועים וכך הפך את עבודותיו לאמיתיות עוד יותר. \nמידע מפורט באתר האינטרנט של שנת תרבות הונגריה: http://hungary-israel.co.il/ \nובפייסבוק: https://www.facebook.com/HungaryIsrael/ \nא' עד ה' בשעות 15:00 – 21:00 \nחול המועד סוכות ובשבת 10:00 – 21:00 \nובימי יום ו' וערב חג 10:00- 17:00\, \nבימי פסטיבל ימי הונגריה (15\, 16\, 17 לאוקטובר) הכניסה לתערוכות בחינם!\n15.10       18:00-23:00 \n16/17.10  11:00-22:00 \n
URL:https://hangar11.co.il/events/event/%d7%90%d7%9e%d7%a0%d7%95%d7%aa-%d7%94%d7%99%d7%95%d7%9e%d7%99%d7%95%d7%9d-%d7%90%d7%9e%d7%a0%d7%95%d7%aa-%d7%a9%d7%99%d7%9e%d7%95%d7%a9%d7%99%d7%aa-%d7%95%d7%a2%d7%99%d7%a6%d7%95%d7%91/
LOCATION:אולם האנגר קלאב – מתחם האנגר 11\, אולם הפדרציה\, נמל תל אביב\, תל אביב
CATEGORIES:תערוכה
ATTACH;FMTTYPE=image/jpeg:https://hangar11.co.il/events/wp-content/uploads/2019/09/עיצוב-1.jpg
GEO:32.0964825;34.7732737
X-APPLE-STRUCTURED-LOCATION;VALUE=URI;X-ADDRESS=אולם האנגר קלאב – מתחם האנגר 11 אולם הפדרציה נמל תל אביב תל אביב;X-APPLE-RADIUS=500;X-TITLE=אולם הפדרציה\, נמל תל אביב:geo:34.7732737,32.0964825
END:VEVENT
END:VCALENDAR