BEGIN:VCALENDAR
VERSION:2.0
PRODID:-//האנגר 11 - ECPv4.9.10//NONSGML v1.0//EN
CALSCALE:GREGORIAN
METHOD:PUBLISH
X-WR-CALNAME:האנגר 11
X-ORIGINAL-URL:https://hangar11.co.il/events
X-WR-CALDESC:Events for האנגר 11
BEGIN:VTIMEZONE
TZID:Asia/Jerusalem
BEGIN:DAYLIGHT
TZOFFSETFROM:+0200
TZOFFSETTO:+0300
TZNAME:IDT
DTSTART:20160325T000000
END:DAYLIGHT
BEGIN:STANDARD
TZOFFSETFROM:+0300
TZOFFSETTO:+0200
TZNAME:IST
DTSTART:20161029T230000
END:STANDARD
END:VTIMEZONE
BEGIN:VEVENT
DTSTART;TZID=Asia/Jerusalem:20160511T220000
DTEND;TZID=Asia/Jerusalem:20160511T220000
DTSTAMP:20260420T010901
CREATED:20160508T081442Z
LAST-MODIFIED:20160508T081442Z
UID:626-1463004000-1463004000@hangar11.co.il
SUMMARY:"אנקוקלש" עם פאסיל דמוז בערב יום העצמאות
DESCRIPTION:\n\n\n\n\nאת עצמאות 2016 חוגגים מול הים בהאנגר 11 עם הזמר האגדי\, פאסיל דמוז \nלכרטיסים לחצו >>> www.showisrael.com \nלבירורים התקשרו 054-3226525 | 050-3150031\nמכירה מוקדמת | 150 ש"ח\nנקודות מכירה:\n\n\n\n\n\n\nת”א \nמייק‭ ‬קוסממטיקס 03-6876357 \nקמיס‬ ‬03-5233003 \nירושלים \nאמבט‬ ‬053-2409124 \nפ”ת \nמסעדת‭ ‬ביאינטו ‬050-4245813 \nהזולה‭ ‬של‭ ‬אבי‬ ‬054-6259448 \nראשל"צ \nהמספרה‭ ‬של‭ ‬דוד ‬054-6461365 \nמנדלה‭ ‬פרומושין‬ ‬054-4955504 \nרחובות \nסלון‭ ‬יופי‭ ‬חלומי ‬052-4481524 \nהחנות‭ ‬של‭ ‬דניאל‬ ‬052-6060284 \nאשדוד‭ ‬אשקלון \nאסתי‭ ‬סבהט‬ ‬050-9522798 \nמסרט ‬054-2887414 \nנתניה‭ ‬חדרה \nדניאל‭ ‬סולומון ‬055-9991584 \nחיפה‭ ‬והקריות \nמכולת‭ ‬אלישע ‬054-4714289 \nדייגי‭ ‬איפי‬ 052-6133868 \n\n
URL:https://hangar11.co.il/events/event/%d7%90%d7%a0%d7%a7%d7%95%d7%a7%d7%9c%d7%a9-%d7%a2%d7%9d-%d7%a4%d7%90%d7%a1%d7%99%d7%9c-%d7%93%d7%9e%d7%95%d7%96-%d7%91%d7%a2%d7%a8%d7%91-%d7%99%d7%95%d7%9d-%d7%94%d7%a2%d7%a6%d7%9e%d7%90%d7%95/
LOCATION:favicon
ATTACH;FMTTYPE=:
END:VEVENT
END:VCALENDAR