BEGIN:VCALENDAR
VERSION:2.0
PRODID:-//האנגר 11 - ECPv4.9.10//NONSGML v1.0//EN
CALSCALE:GREGORIAN
METHOD:PUBLISH
X-WR-CALNAME:האנגר 11
X-ORIGINAL-URL:https://hangar11.co.il/events
X-WR-CALDESC:Events for האנגר 11
BEGIN:VTIMEZONE
TZID:Asia/Jerusalem
BEGIN:DAYLIGHT
TZOFFSETFROM:+0200
TZOFFSETTO:+0300
TZNAME:IDT
DTSTART:20180323T000000
END:DAYLIGHT
BEGIN:STANDARD
TZOFFSETFROM:+0300
TZOFFSETTO:+0200
TZNAME:IST
DTSTART:20181027T230000
END:STANDARD
END:VTIMEZONE
BEGIN:VEVENT
DTSTART;VALUE=DATE:20180701
DTEND;VALUE=DATE:20180703
DTSTAMP:20260419T144135
CREATED:20180623T161905Z
LAST-MODIFIED:20180623T162138Z
UID:1995-1530406800-1530493199@hangar11.co.il
SUMMARY:אנשים שבדרך כלל לא מרצים 2018
DESCRIPTION:השנה יתקיימו שני אירועים: הראשון בשעה 19:00 והשני בשעה 21:30 \nהאירוע "אנשים שבדרך כלל לא מרצים" חוזר בשנה החמישית ברציפות ומביא לכם ערב חד-פעמי של הרצאות קצרות מפי דוברים לא קונבנציונליים\, מתוך אמונה שלסיפור אנושי טוב יש את הכוח לשבור סטיגמות ולייצר שינוי תודעתי. \nבין המרצים שלקחו חלק בשנים הקודמות היו פקחית חניה\, בסטיונר בשוק\, שוטפת גופות\, דוגמנית למידות גדולות\, חוקר פרטי ועוד. \nהפורמט\, אשר הפך השנה לבינלאומי והתקיים גם בניו-יורק\, אשקלון\, סן פרנסיסקו\, ג'סר א-זרקא ובואנוס איירס\, מובל על ידי ארגון ZE.ZE בשיתוף פעולה עם חברת אתרים המנהלת את נמל תל אביב וקהילת ROI. \nהשנה ירצו אדם החי עם טורט\, מיילדת\, פליט יוצא דארפור\, כותב נאומים\, שחקן ויוצר\, עובדת לשעבר בתעשיית המין ואם ליוצאת בשאלה. \nלפרטים נוספים היכנסו לאתר ZE.ZE. \n
URL:https://hangar11.co.il/events/event/%d7%90%d7%a0%d7%a9%d7%99%d7%9d-%d7%a9%d7%91%d7%93%d7%a8%d7%9a-%d7%9b%d7%9c%d7%9c-%d7%9c%d7%90-%d7%9e%d7%a8%d7%a6%d7%99%d7%9d-2018/
LOCATION:האנגר 11\, Israel
CATEGORIES:הרצאה
ATTACH;FMTTYPE=image/png:https://hangar11.co.il/events/wp-content/uploads/2018/06/zeze18.png
GEO:32.0964756;34.7740091
END:VEVENT
END:VCALENDAR