BEGIN:VCALENDAR
VERSION:2.0
PRODID:-//האנגר 11 - ECPv4.9.10//NONSGML v1.0//EN
CALSCALE:GREGORIAN
METHOD:PUBLISH
X-WR-CALNAME:האנגר 11
X-ORIGINAL-URL:https://hangar11.co.il/events
X-WR-CALDESC:Events for האנגר 11
BEGIN:VTIMEZONE
TZID:Asia/Jerusalem
BEGIN:DAYLIGHT
TZOFFSETFROM:+0200
TZOFFSETTO:+0300
TZNAME:IDT
DTSTART:20250328T000000
END:DAYLIGHT
BEGIN:STANDARD
TZOFFSETFROM:+0300
TZOFFSETTO:+0200
TZNAME:IST
DTSTART:20251025T230000
END:STANDARD
END:VTIMEZONE
BEGIN:VEVENT
DTSTART;TZID=Asia/Jerusalem:20251107T163000
DTEND;TZID=Asia/Jerusalem:20251107T163000
DTSTAMP:20260420T053318
CREATED:20251103T105215Z
LAST-MODIFIED:20251103T105215Z
UID:6677-1762533000-1762533000@hangar11.co.il
SUMMARY:ארוחת שבת העולמית
DESCRIPTION:ארוחת שבת חגיגית כחלק משבת עולמית!\n\nהשנה יותר מתמיד! \nהצטרפו אלינו לארוחת שבת ענקית בהאנגר 11 יחד עם קהילות תל-אביב כחלק משבת עולמית \nיום שישי\, ט"ז חשוון\, \n7 בנובמבר\, 2025 \n16:35 קבלת שבת בסגנון קרליבך \n17:30 קידוש\, מינגלינג ובר פתוח \n19:00 סעודת שבת חגיגית \nקייטרינג ריבקין – תעודת כשרות\nכשרות מהודרת של המרא דאתרא בכפר חב"ד הרה"ג מאיר אשכנזי.\nותחת השגחתו של הרה"ג נח לנדסברג – הרבנות הראשית שדות דן.\nכל העופות והבשרים הינם 'שחיטת ליובאווויטש'.\nכל המוצרים כולל הדגים הינם בכשרות בד"צ העדה החדרית והרב לנדא. \n
URL:https://hangar11.co.il/events/event/%d7%90%d7%a8%d7%95%d7%97%d7%aa-%d7%a9%d7%91%d7%aa-%d7%94%d7%a2%d7%95%d7%9c%d7%9e%d7%99%d7%aa/
LOCATION:האנגר 11\, Israel
CATEGORIES:מיינסטרים
ATTACH;FMTTYPE=image/jpeg:https://hangar11.co.il/events/wp-content/uploads/2025/11/ארוחת-שבת-עולמית-25_1200-×-600_1200-×-600_1200-×-600-1.jpg
GEO:32.0964756;34.7740091
END:VEVENT
END:VCALENDAR