BEGIN:VCALENDAR
VERSION:2.0
PRODID:-//האנגר 11 - ECPv4.9.10//NONSGML v1.0//EN
CALSCALE:GREGORIAN
METHOD:PUBLISH
X-WR-CALNAME:האנגר 11
X-ORIGINAL-URL:https://hangar11.co.il/events
X-WR-CALDESC:Events for האנגר 11
BEGIN:VTIMEZONE
TZID:Asia/Jerusalem
BEGIN:DAYLIGHT
TZOFFSETFROM:+0200
TZOFFSETTO:+0300
TZNAME:IDT
DTSTART:20250328T000000
END:DAYLIGHT
BEGIN:STANDARD
TZOFFSETFROM:+0300
TZOFFSETTO:+0200
TZNAME:IST
DTSTART:20251025T230000
END:STANDARD
END:VTIMEZONE
BEGIN:VEVENT
DTSTART;TZID=Asia/Jerusalem:20250911T200000
DTEND;TZID=Asia/Jerusalem:20250911T200000
DTSTAMP:20260424T182709
CREATED:20250515T055714Z
LAST-MODIFIED:20250515T055714Z
UID:6578-1757620800-1757620800@hangar11.co.il
SUMMARY:בישראל SPLEAN
DESCRIPTION:סוף סוף\, להקת הרוק האגדית \nSPLEAN \n!חוזרת להופיע בישראל \nתאריך: 11.09.2025\nמקום: האנגר 11\nכתובת: רחוב כף ג' יורדי הסירה 1\, תל אביב-יפו\, ישראל\nפתיחת דלתות: 19:00\nתחילת הופעה: 20:00 \nביום חמישי\, 11 בספטמבר 2025\, במועדון התל-אביבי האנגר 11\, תעלה להקת \nSPLEAN \nקונצרט ייחודי\, בו תבצע את הלהיטים המפורסמים ביותר מכל התקופות\, לצד שירים נדירים שמבוצעים לעיתים רחוקות בהופעות חיות – אך תמיד אהובים על ידי המעריצים \nבמהלך הקריירה הארוכה שלה\, הוציאה \nSPLEAN \nיותר מעשרה אלבומי אולפן\, שכל אחד מהם העניק למאזינים שירים שנגעו עמוק בלב. אל תפספסו את ההזדמנות לשמוע אותם בלייב \n  \n
URL:https://hangar11.co.il/events/event/%d7%91%d7%99%d7%a9%d7%a8%d7%90%d7%9c-splean/
LOCATION:האנגר 11\, Israel
CATEGORIES:מיינסטרים
ATTACH;FMTTYPE=image/jpeg:https://hangar11.co.il/events/wp-content/uploads/2025/05/splean_25_telaviv_1200x600_eng.jpg
GEO:32.0964756;34.7740091
END:VEVENT
END:VCALENDAR