BEGIN:VCALENDAR
VERSION:2.0
PRODID:-//האנגר 11 - ECPv4.9.10//NONSGML v1.0//EN
CALSCALE:GREGORIAN
METHOD:PUBLISH
X-WR-CALNAME:האנגר 11
X-ORIGINAL-URL:https://hangar11.co.il/events
X-WR-CALDESC:Events for האנגר 11
BEGIN:VTIMEZONE
TZID:Asia/Jerusalem
BEGIN:DAYLIGHT
TZOFFSETFROM:+0200
TZOFFSETTO:+0300
TZNAME:IDT
DTSTART:20200327T000000
END:DAYLIGHT
BEGIN:STANDARD
TZOFFSETFROM:+0300
TZOFFSETTO:+0200
TZNAME:IST
DTSTART:20201024T230000
END:STANDARD
END:VTIMEZONE
BEGIN:VEVENT
DTSTART;TZID=Asia/Jerusalem:20200111T213000
DTEND;TZID=Asia/Jerusalem:20200111T213000
DTSTAMP:20260420T144138
CREATED:20191118T091345Z
LAST-MODIFIED:20191223T211805Z
UID:3507-1578778200-1578778200@hangar11.co.il
SUMMARY:בניה ברבי מארח את מוש בן ארי
DESCRIPTION:בניה ברבי שהפך לאחד מבולטי עונות "דה וויס" ככזה שיזכר לעד עם הביצוע האלמותי שלו ל "מודה אני" של מאיר אריאל והקול מאחורי השיר שהפך ללהיט המדינה של השנה  "אל תשאלי" מתוך הפרויקט של גיל ויין. \nהשיר שהפך להמנון "מישהו איתי כאן" כובש את מצעדי ההשמעות בכל תחנות הרדיו באוקטובר 2018 יצא הסינגל ״תפסת לי מקום״ אשר זכה לשהות במקום הראשון במצעד של גלגל״צ במשך 7 שבועות רצופים.\nבתחילת 2019 יצא השיר ״עכשיו הלב פתוח״ שזכה להצלחה רבה וכן גם שירו האחרון ״ממה את מפחדת״ אשר אותו הוא מבצע עם אייל גולן. \nבניה ברבי יוצא לסיבוב הופעות חדש מעניין ומסקרן שיפגיש בין צבעים ועולמות מוסיקלים. \nנגנים: \nאלמוג לזמי – תופים \nטל אראיה – בס \nאור בשארי – גיטרות \nשחר ימפולסקי – קלידים ומחשב \nספי עספורי – עוד\, כינור ובוזוקי \nאייל סלע – נשיפה \nבניה ברבי – שירה וגיטרות \nדודו שביט – סאונד \nליאור מיטל – תאורה \n
URL:https://hangar11.co.il/events/event/%d7%91%d7%a0%d7%99%d7%94-%d7%91%d7%a8%d7%91%d7%99-%d7%9e%d7%90%d7%a8%d7%97-%d7%90%d7%aa-%d7%9e%d7%95%d7%a9-%d7%91%d7%9f-%d7%90%d7%a8%d7%99/
LOCATION:האנגר 11\, Israel
CATEGORIES:בניה ברבי,גולדסטאר סאונד סיסטם,מיינסטרים
ATTACH;FMTTYPE=image/jpeg:https://hangar11.co.il/events/wp-content/uploads/2019/11/show_pic19380_img_1.jpg
GEO:32.0964756;34.7740091
END:VEVENT
END:VCALENDAR