BEGIN:VCALENDAR
VERSION:2.0
PRODID:-//האנגר 11 - ECPv4.9.10//NONSGML v1.0//EN
CALSCALE:GREGORIAN
METHOD:PUBLISH
X-WR-CALNAME:האנגר 11
X-ORIGINAL-URL:https://hangar11.co.il/events
X-WR-CALDESC:Events for האנגר 11
BEGIN:VTIMEZONE
TZID:Asia/Jerusalem
BEGIN:DAYLIGHT
TZOFFSETFROM:+0200
TZOFFSETTO:+0300
TZNAME:IDT
DTSTART:20190329T000000
END:DAYLIGHT
BEGIN:STANDARD
TZOFFSETFROM:+0300
TZOFFSETTO:+0200
TZNAME:IST
DTSTART:20191026T230000
END:STANDARD
END:VTIMEZONE
BEGIN:VEVENT
DTSTART;TZID=Asia/Jerusalem:20190526T210000
DTEND;TZID=Asia/Jerusalem:20190526T210000
DTSTAMP:20260419T231204
CREATED:20190419T085402Z
LAST-MODIFIED:20190513T121628Z
UID:3174-1558904400-1558904400@hangar11.co.il
SUMMARY:גאגא בהאנגר עם אוהד נהרין   Gaga at the Hangar with Ohad Naharin
DESCRIPTION:גאגא בהאנגר  \nעם אוהד נהרין \nאירוע גאגא רב-משתתפים לקהל הרחב בהאנגר 11\, נמל תל אביב \nאחרי השיעור מסיבה עם דיג'יי – עדי בוטרוס \n  \nאין צורך ברקע קודם במחול כדי להשתתף. \nיום ראשון 26 במאי. פתיחת דלתות: 19:00\, תחילת השיעור: 20:00 \nאירוע הגאגא רב המשתתפים\, שכבר הפך למסורת שמרכזת מאות אנשים יחדיו לשיעור תנועה מיוחד בנמל תל-אביב\, חוזר זו השנה השישית. אוהד נהרין\, יחד עם מורי גאגא ורקדנים מלהקת מחול בת-שבע\, יקיימו שיעור גאגא בהאנגר 11 בנמל תל-אביב. \nגאגא\, שפת התנועה שפיתח אוהד נהרין\, מבוססת על שני מסלולים – מסלול לרקדנים ומסלול לאנשים. גאגא מחבר אנשים לתענוג\, גרוב ומאמץ\, מחזק את הגוף\, מגמיש ומעורר אותו.  את הגאגא מתרגלים בבגדי רחוב נוחים ואין צורך בלבוש מיוחד. משך השיעור הוא כשעה של תנועה ללא הפסקה\, בהתאם להוראות כלליות של המדריך. הקהל מוזמן להגיע בבגדים נוחים\, ללא תיקים או חפצים אחרים. \nההכנסות מן האירוע ייתרמו לאגודה לזכויות האזרח. \n  \n  \nGaga at the Hangar with Ohad Naharin \nThe Yearly Event for the Association of Human Rights in Israel (ACRI) \nSunday May 26th\, 2019 | 8pm Hangar 11 Tel Aviv Port \nFollowed by a party with DJ Adi Butrus \nAll proceeds will be donated to the Association of Human Rights in Israel (ACRI) \nOhad Naharin\, Batsheva dancers and Gaga teachers in a special Gaga class. The lesson is for everyone\, no previous dance education is required. \nTickets: 65 NIS (website) | 75 NIS (boxoffice before the event) \nDoors opening 7pm \nFor additional info: Hangar 11 +972-3-5446999 \nPlease note: the event will be filmed\, no additional photography is allowed. \n
URL:https://hangar11.co.il/events/event/%d7%92%d7%90%d7%92%d7%90-%d7%91%d7%94%d7%90%d7%a0%d7%92%d7%a8-2/
LOCATION:האנגר 11\, Israel
CATEGORIES:אירוע התרמה
ATTACH;FMTTYPE=image/jpeg:https://hangar11.co.il/events/wp-content/uploads/2019/04/Gaga-Hangar-2018-034_.jpg
GEO:32.0964756;34.7740091
END:VEVENT
END:VCALENDAR