BEGIN:VCALENDAR
VERSION:2.0
PRODID:-//האנגר 11 - ECPv4.9.10//NONSGML v1.0//EN
CALSCALE:GREGORIAN
METHOD:PUBLISH
X-WR-CALNAME:האנגר 11
X-ORIGINAL-URL:https://hangar11.co.il/events
X-WR-CALDESC:Events for האנגר 11
BEGIN:VTIMEZONE
TZID:Asia/Jerusalem
BEGIN:DAYLIGHT
TZOFFSETFROM:+0200
TZOFFSETTO:+0300
TZNAME:IDT
DTSTART:20220325T000000
END:DAYLIGHT
BEGIN:STANDARD
TZOFFSETFROM:+0300
TZOFFSETTO:+0200
TZNAME:IST
DTSTART:20221029T230000
END:STANDARD
END:VTIMEZONE
BEGIN:VEVENT
DTSTART;TZID=Asia/Jerusalem:20221124T210000
DTEND;TZID=Asia/Jerusalem:20221124T210000
DTSTAMP:20260419T130117
CREATED:20221019T110744Z
LAST-MODIFIED:20221019T110847Z
UID:5112-1669323600-1669323600@hangar11.co.il
SUMMARY:גורי אלפי - עושה קופה על חברים
DESCRIPTION:למה גורי אלפי צריך לעשות עוד דברים? באמת\, למה? הבנאדם סטנדאפיסט\, שחקן\, מנחה\, במאי\, רקדן סטפס\, חלבן. אבל לפעמים צריך לעשות משהו אך ורק בשביל הכיף…עם האומנים והחברים המוכשרים על במה אחת.\nאז ככה בשביל הפאן והפאנק\, גורי ולהקה של חיות רעות\, מזמינים את הקהל למסיבה בהאנגר 11\, שיהיו בה את כל הדברים הטובים האלה יחד!\nמוזיקה\, צחוק\, ריקודים\, מכונת עשן\, מכונת הנשמה\, ויטראז’ים של לוטרות\, בקיצור כל מה שאנחנו אוהבים.\nהנה הם – אורחים מיוחדים שהסכימו לבוא: יוני בלוך\, פול טראנק\, ג’ימבו ג’יי\, גיא מזיג\, סימה נון ודי ג׳יי מש. \nתתכוננו לערב לפנתיאון! \n* המופע בעמידה \n
URL:https://hangar11.co.il/events/event/%d7%92%d7%95%d7%a8%d7%99-%d7%90%d7%9c%d7%a4%d7%99-%d7%a2%d7%95%d7%a9%d7%94-%d7%a7%d7%95%d7%a4%d7%94-%d7%a2%d7%9c-%d7%97%d7%91%d7%a8%d7%99%d7%9d/
LOCATION:האנגר 11\, יורדי הסירה 1\, תל אביב\, Israel
CATEGORIES:מיינסטרים
ATTACH;FMTTYPE=image/jpeg:https://hangar11.co.il/events/wp-content/uploads/2022/10/hangar600_1200.jpg
END:VEVENT
END:VCALENDAR