BEGIN:VCALENDAR
VERSION:2.0
PRODID:-//האנגר 11 - ECPv4.9.10//NONSGML v1.0//EN
CALSCALE:GREGORIAN
METHOD:PUBLISH
X-WR-CALNAME:האנגר 11
X-ORIGINAL-URL:https://hangar11.co.il/events
X-WR-CALDESC:Events for האנגר 11
BEGIN:VTIMEZONE
TZID:Asia/Jerusalem
BEGIN:DAYLIGHT
TZOFFSETFROM:+0200
TZOFFSETTO:+0300
TZNAME:IDT
DTSTART:20220325T000000
END:DAYLIGHT
BEGIN:STANDARD
TZOFFSETFROM:+0300
TZOFFSETTO:+0200
TZNAME:IST
DTSTART:20221029T230000
END:STANDARD
END:VTIMEZONE
BEGIN:VEVENT
DTSTART;TZID=Asia/Jerusalem:20220407T210000
DTEND;TZID=Asia/Jerusalem:20220407T210000
DTSTAMP:20260419T221739
CREATED:20220213T094104Z
LAST-MODIFIED:20220215T102311Z
UID:4528-1649365200-1649365200@hangar11.co.il
SUMMARY:דויד ברוזה - האישה שאיתי
DESCRIPTION:\nהמופע "האישה שאיתי"\n\nאחד היוצרים והמבצעים הייחודיים והמשפיעים במוסיקה הישראלית מגיע להופעה מיוחדת בהאנגר 11! \nב- 1983 יצא האלבום “האשה שאיתי”\, אלבומו השלישי של ברוזה שהפך אותו לאמן גדול ושם אותו בשורה אחת עם גדולי האמנים בארץ. “האשה שאיתי” השיר והאלבום הפכו ללהיטי ענק וחשפו אותו לקהל גדול שלא הכיר קודם. האלבום הפך לרב מכר ענק\, ב- 1994 נחשב האלבום לנמכר ביותר בישראל כשהגיע ל-160 אלף עותקים (אלבום פלטינה מרובע) . מאז הגיע האלבום למכירות של מעל 180 אלף עותקים\,הישג גדול לאמן בישראל.\nאת יציאת האלבום ליווה סיבוב הופעות שזכה להצלחה אדירה!! ומילא אולמות והיכלי תרבות בכל רחבי הארץ (120 הופעות בחצי שנה). \nשירי האלבום בעיבודם המקורי לצד להיטיו משלושים שנות הקריירה המוסיקלית שלו בעיבודים חדשים:סיגליות \, בנהר של סיביליה \, כמו שאת \, נולדת בשבילי \, טיו אלברטו \, אהבה עד השמיים \, בלבך \, רומבה \, \, יהיה טוב \, שיר אהבה בדואי \, סניוריטה \, מתחת לשמיים ועוד… \nאורחים מיוחדים: יוני רכטר ויובל דיין \n\n
URL:https://hangar11.co.il/events/event/%d7%93%d7%95%d7%99%d7%93-%d7%91%d7%a8%d7%95%d7%96%d7%94-%d7%94%d7%90%d7%99%d7%a9%d7%94-%d7%a9%d7%90%d7%99%d7%aa%d7%99/
LOCATION:האנגר 11\, יורדי הסירה 1\, תל אביב\, Israel
CATEGORIES:toMix&Music,דויד ברוזה,האישה שאיתי,יובל דיין,ישראלי
ATTACH;FMTTYPE=image/jpeg:https://hangar11.co.il/events/wp-content/uploads/2022/02/hangar_broza_1200_650-002.jpg
END:VEVENT
END:VCALENDAR