BEGIN:VCALENDAR
VERSION:2.0
PRODID:-//האנגר 11 - ECPv4.9.10//NONSGML v1.0//EN
CALSCALE:GREGORIAN
METHOD:PUBLISH
X-WR-CALNAME:האנגר 11
X-ORIGINAL-URL:https://hangar11.co.il/events
X-WR-CALDESC:Events for האנגר 11
BEGIN:VTIMEZONE
TZID:Asia/Jerusalem
BEGIN:DAYLIGHT
TZOFFSETFROM:+0200
TZOFFSETTO:+0300
TZNAME:IDT
DTSTART:20160325T000000
END:DAYLIGHT
BEGIN:STANDARD
TZOFFSETFROM:+0300
TZOFFSETTO:+0200
TZNAME:IST
DTSTART:20161029T230000
END:STANDARD
END:VTIMEZONE
BEGIN:VEVENT
DTSTART;TZID=Asia/Jerusalem:20160629T193000
DTEND;TZID=Asia/Jerusalem:20160629T220000
DTSTAMP:20260420T122956
CREATED:20160614T113352Z
LAST-MODIFIED:20160614T113352Z
UID:638-1467228600-1467237600@hangar11.co.il
SUMMARY:דור המעצבים הבא עולה על המסלול: תצוגת האופנה של בוגרי שנקר 2016
DESCRIPTION:ארבע שנים הם/ן גזרו\, תפרו\, רקמו\, פרמו\, ציירו\, הדפיסו וסרגו; מאות שעות הם בילו בין בדים וחוטים\, מגזינים וספרים\, דפי שרטוט ומחברות השראה וסופסוף הגיע רגע האמת שלהם: הבוגרים הטריים של המחלקה לעיצוב אופנה יחשפו את קולקציות הגמר שלהם ב-2 תצוגות אופנה מרהיבות ומעוררות השראה\, כמו שרק הם יודעים לעשות! \n\nאל תחמיצו: לעמוד האירוע בפייסבוק לחצו כאן!\n\nתצוגות האופנה יתקיימו ביום רביעי\, ה-29.06.16\, בשעות 19:30 ו-22:00 בהאנגר 11 בנמל תל-אביב. \n\nלרכישת כרטיסים (200 ש"ח): התקשרו אלינו בימים א'-ה'\, בין השעות 16:00-10:00: 03-6110161\nבמהלך שנות לימודיהם המאתגרות בשנקר\, נחשפו הסטודנטים למגוון הרבדים של עולם האופנה\, על הקשריו ההיסטוריים\, תרבותיים וחברתיים. הם למדו והתנסו במגוון טכניקות ויישומים\, התמודדו עם אינספור פרויקטים ותרגילים\, השתתפו בתערוכות ותחרויות וגיבשו שפה אישית ומקורית.\nהתצוגה השנתית של בוגרי שנקר הפכה זה מכבר לאחד מאירועי הדגל של עולם האופנה הישראלי והיא מאפשרת להתוודע להלכי הרוח של דור המעצבים הצעיר\, כמו גם למגמות אופנה מקומיות ובינלאומיות עכשוויות.\n\n
URL:https://hangar11.co.il/events/event/%d7%93%d7%95%d7%a8-%d7%94%d7%9e%d7%a2%d7%a6%d7%91%d7%99%d7%9d-%d7%94%d7%91%d7%90-%d7%a2%d7%95%d7%9c%d7%94-%d7%a2%d7%9c-%d7%94%d7%9e%d7%a1%d7%9c%d7%95%d7%9c-%d7%aa%d7%a6%d7%95%d7%92%d7%aa-%d7%94%d7%90/
LOCATION:favicon
ATTACH;FMTTYPE=:
END:VEVENT
END:VCALENDAR