BEGIN:VCALENDAR
VERSION:2.0
PRODID:-//האנגר 11 - ECPv4.9.10//NONSGML v1.0//EN
CALSCALE:GREGORIAN
METHOD:PUBLISH
X-WR-CALNAME:האנגר 11
X-ORIGINAL-URL:https://hangar11.co.il/events
X-WR-CALDESC:Events for האנגר 11
BEGIN:VTIMEZONE
TZID:Asia/Jerusalem
BEGIN:DAYLIGHT
TZOFFSETFROM:+0200
TZOFFSETTO:+0300
TZNAME:IDT
DTSTART:20170324T000000
END:DAYLIGHT
BEGIN:STANDARD
TZOFFSETFROM:+0300
TZOFFSETTO:+0200
TZNAME:IST
DTSTART:20171028T230000
END:STANDARD
END:VTIMEZONE
BEGIN:VEVENT
DTSTART;TZID=Asia/Jerusalem:20170315T213000
DTEND;TZID=Asia/Jerusalem:20170315T170000
DTSTAMP:20260419T214929
CREATED:20170206T155241Z
LAST-MODIFIED:20170206T155241Z
UID:992-1489613400-1489597200@hangar11.co.il
SUMMARY:דיקלה
DESCRIPTION:  \n                                                                                                                                                         דיקלה  \n                                                                                                                                                        ההופעה  \nהשנה החדשה נפתחה בקול גדול עם מופע הפתיחה המהפנט והמרגש בהיכל התרבות תל אביב בו הביאה הזמרת והיוצרת דיקלה את אלבומה סיפור אופטימי לבמה\, ולאחריו יצאה לסיבוב הופעות חורפי שמילא אולמות ברחבי הארץ. \nלאור ההצלחה נפתחה סדרת הופעות נוספת במסגרתה תגיע דיקלה ב 15.3 להאנגר 11. \nהזמרת והיוצרת דיקלה היא ללא ספק מהקולות העוצמתיים\, הייחודיים והאיכותיים במוזיקה הישראלית כיום. אלבום המופת שלה ואם פרידה\, עליו קיבלה את פרס אקו"ם\, כלל שירים שריגשו בזה אחר זה\, חשף את דיקלה לקהלים חדשים ובעקבותיו הגיעו מופעי סולד אאוט מדן ועד אילת. \nעם יציאת האלבום החדש נראה שהסיפור האופטימי של דיקלה ממשיך עם ביקורות מהללות\, תואר שלישי ברציפות כ"זמרת השנה" של רשת ג'\, אינספור השמעות ברדיו לסינגלים מתוכו – הוא כותב לי מאמי\, אל תלך\, בדידותי הנהדרת (מישהו אוהב אותי) וכעת מסקרה שחורה שיוצא מלווה בקליפ מושקע בכיכובן של דיקלה ויעל אבקסיס. עם הרכב של שישה נגנים\, בניהולו האמנותי של אורי אבני\, דיקלה מביאה לבמה תמהיל מהפנט של שירי האלבום החדש לצד ביצועים חמים וחדשים לשיריה הגדולים. בין השירים: הוא כותב לי מאמי\, ואם פרידה\, שבע בערב\, אל תלך\, Here Comes The Rain Again\, בסמה\, בוקר טוב\, יהיה לנו טוב\, אין עוד אהבה כזאת ואחרים. \n
URL:https://hangar11.co.il/events/event/%d7%93%d7%99%d7%a7%d7%9c%d7%94/
ATTACH;FMTTYPE=image/jpeg:https://hangar11.co.il/events/wp-content/uploads/2017/02/דיקלה-2016-לפרסום-צילום-עדי-אורני.jpg
END:VEVENT
END:VCALENDAR