BEGIN:VCALENDAR
VERSION:2.0
PRODID:-//האנגר 11 - ECPv4.9.10//NONSGML v1.0//EN
CALSCALE:GREGORIAN
METHOD:PUBLISH
X-WR-CALNAME:האנגר 11
X-ORIGINAL-URL:https://hangar11.co.il/events
X-WR-CALDESC:Events for האנגר 11
BEGIN:VTIMEZONE
TZID:Asia/Jerusalem
BEGIN:DAYLIGHT
TZOFFSETFROM:+0200
TZOFFSETTO:+0300
TZNAME:IDT
DTSTART:20180323T000000
END:DAYLIGHT
BEGIN:STANDARD
TZOFFSETFROM:+0300
TZOFFSETTO:+0200
TZNAME:IST
DTSTART:20181027T230000
END:STANDARD
END:VTIMEZONE
BEGIN:VEVENT
DTSTART;TZID=Asia/Jerusalem:20181019T230000
DTEND;TZID=Asia/Jerusalem:20181020T000000
DTSTAMP:20260421T165525
CREATED:20180802T080716Z
LAST-MODIFIED:20180802T080716Z
UID:2496-1539990000-1539993600@hangar11.co.il
SUMMARY:דר' צחי בן ציון "אוכל שתיה גבר אישה"\,המשכן למוזיקה ואומנויות רעננה
DESCRIPTION: שישי\, 19 אוקטובר 2018 בשעה 22:00\nהמופע "אוכל שתיה גבר אישה" של דר' צחי בן ציון שנבחר לאחד ממאה הרופאים הטובים בישראל. \nאחד המופעים המצליחים בארץ! \nהמופע שהוא גם סוג של טיפול מיני וזוגי מוגש בהומור ובצחוק\,הנוגעים באמיתות של החיים. \nבמהלך המופע מקיים בן ציון אינטראקציה עם הקהל. \n  \n
URL:https://hangar11.co.il/events/event/%d7%93%d7%a8-%d7%a6%d7%97%d7%99-%d7%91%d7%9f-%d7%a6%d7%99%d7%95%d7%9f-%d7%90%d7%95%d7%9b%d7%9c-%d7%a9%d7%aa%d7%99%d7%94-%d7%92%d7%91%d7%a8-%d7%90%d7%99%d7%a9%d7%94%d7%94%d7%9e%d7%a9%d7%9b%d7%9f/
LOCATION:המשכן למוזיקה ואומנויות – רעננה\, הפלמ"ח 2\, רעננה\, מרכז\, Israel
CATEGORIES:צחי בן ציון
ATTACH;FMTTYPE=image/jpeg:https://hangar11.co.il/events/wp-content/uploads/2018/04/צחי-בן-ציון-לאתר.jpg
END:VEVENT
END:VCALENDAR