BEGIN:VCALENDAR
VERSION:2.0
PRODID:-//האנגר 11 - ECPv4.9.10//NONSGML v1.0//EN
CALSCALE:GREGORIAN
METHOD:PUBLISH
X-WR-CALNAME:האנגר 11
X-ORIGINAL-URL:https://hangar11.co.il/events
X-WR-CALDESC:Events for האנגר 11
BEGIN:VTIMEZONE
TZID:Asia/Jerusalem
BEGIN:DAYLIGHT
TZOFFSETFROM:+0200
TZOFFSETTO:+0300
TZNAME:IDT
DTSTART:20180323T000000
END:DAYLIGHT
BEGIN:STANDARD
TZOFFSETFROM:+0300
TZOFFSETTO:+0200
TZNAME:IST
DTSTART:20181027T230000
END:STANDARD
END:VTIMEZONE
BEGIN:VEVENT
DTSTART;TZID=Asia/Jerusalem:20180310T220000
DTEND;TZID=Asia/Jerusalem:20180310T220000
DTSTAMP:20260419T170945
CREATED:20180201T205435Z
LAST-MODIFIED:20180310T121119Z
UID:1655-1520719200-1520719200@hangar11.co.il
SUMMARY:הדג נחש
DESCRIPTION:חברים אורחים: נצ'י נצ' ו- A-WA\nה- הופעה!\nואלבום חדש\nחושפים אלבום וסיבוב הופעות חדש. \n* כל הכרטיסים כוללים עותק חתום של האלבום החדש ! * \nבמרץ הקרוב יחשפו הדג נחש אלבום וסיבוב הופעות חדש .\nהם הלהקה המצליחה ואהובה בישראל \, עם 22 שנות פעילות רציפה\, אלבומי זהב \,פלטינה ובעיקר מטען שירים שתופסים אצל כל אחד מאתנו רגע\, תקופה ומצב בחיים\, לכל אחד יש את "פלייליסט הדג נחש" האישי שלו.\nגם הפעם הם מזמינים אתכם לזוז בהופעת חשיפה לשירי האלבום ולסיבוב החדש והמושקע וכמובן יהיו שם גם להיטי העל בעיבודים חדשים. \nבשיר הראשון שראה אור מהאלבום העתידי "עוד יהיה טוב בארץ ישראל"\nהדג נחש תיארו תמונה מציאותית עצובה\, אך פיזרו תקווה ואופטימיות\, כי עוד יהיה טוב..\nבשיר השני "מצביעים ברגליים" הדג נחש עודדו אותנו להפסיק לפחד.\nובשיר השלישי "סע"….. הגיעה העת לרקוד… \nאלבומם החדש\, והעשירי במספר (!) של הדג נחש\, מוצא אותם במצב חדש.\nהם עדיין שובבים וחובבי בילויים\, והם עדיין כמהים לשינויים מפליגים בחברה ובמדינה ומוכנים גם לעבוד בשביל השינויים הללו\, אבל הם גם מפוכחים יותר. בוגרים יותר. הם בני זוג והם אבות .\nכיצד עושים סדר בסבך האילוצים? בכך בדיוק עוסק ״וולקאם טו איזראל״ אלבומם החדש…. בקרוב! \n\n
URL:https://hangar11.co.il/events/event/%d7%94%d7%93%d7%92-%d7%a0%d7%97%d7%a9/
LOCATION:האנגר 11\, Israel
CATEGORIES:פופ ישראלי
ATTACH;FMTTYPE=image/jpeg:https://hangar11.co.il/events/wp-content/uploads/2018/02/385_1000.jpg
GEO:32.0964756;34.7740091
END:VEVENT
END:VCALENDAR