BEGIN:VCALENDAR
VERSION:2.0
PRODID:-//האנגר 11 - ECPv4.9.10//NONSGML v1.0//EN
CALSCALE:GREGORIAN
METHOD:PUBLISH
X-WR-CALNAME:האנגר 11
X-ORIGINAL-URL:https://hangar11.co.il/events
X-WR-CALDESC:Events for האנגר 11
BEGIN:VTIMEZONE
TZID:Asia/Jerusalem
BEGIN:DAYLIGHT
TZOFFSETFROM:+0200
TZOFFSETTO:+0300
TZNAME:IDT
DTSTART:20180323T000000
END:DAYLIGHT
BEGIN:STANDARD
TZOFFSETFROM:+0300
TZOFFSETTO:+0200
TZNAME:IST
DTSTART:20181027T230000
END:STANDARD
END:VTIMEZONE
BEGIN:VEVENT
DTSTART;TZID=Asia/Jerusalem:20180311T140000
DTEND;TZID=Asia/Jerusalem:20180311T200000
DTSTAMP:20260419T153353
CREATED:20180308T130318Z
LAST-MODIFIED:20180308T150457Z
UID:1760-1520776800-1520798400@hangar11.co.il
SUMMARY:הללויה ישראל
DESCRIPTION:
URL:https://hangar11.co.il/events/event/%d7%94%d7%9c%d7%9c%d7%95%d7%99%d7%94-%d7%99%d7%a9%d7%a8%d7%90%d7%9c/
LOCATION:האנגר 11\, Israel
ATTACH;FMTTYPE=image/jpeg:https://hangar11.co.il/events/wp-content/uploads/2018/03/c50184e2-9dfc-409d-8b9c-b68e55763861.jpg
GEO:32.0964756;34.7740091
END:VEVENT
END:VCALENDAR