BEGIN:VCALENDAR
VERSION:2.0
PRODID:-//האנגר 11 - ECPv4.9.10//NONSGML v1.0//EN
CALSCALE:GREGORIAN
METHOD:PUBLISH
X-WR-CALNAME:האנגר 11
X-ORIGINAL-URL:https://hangar11.co.il/events
X-WR-CALDESC:Events for האנגר 11
BEGIN:VTIMEZONE
TZID:Asia/Jerusalem
BEGIN:DAYLIGHT
TZOFFSETFROM:+0200
TZOFFSETTO:+0300
TZNAME:IDT
DTSTART:20250328T000000
END:DAYLIGHT
BEGIN:STANDARD
TZOFFSETFROM:+0300
TZOFFSETTO:+0200
TZNAME:IST
DTSTART:20251025T230000
END:STANDARD
END:VTIMEZONE
BEGIN:VEVENT
DTSTART;TZID=Asia/Jerusalem:20250404T123000
DTEND;TZID=Asia/Jerusalem:20250404T123000
DTSTAMP:20260419T232414
CREATED:20250303T085842Z
LAST-MODIFIED:20250303T085933Z
UID:6444-1743769800-1743769800@hangar11.co.il
SUMMARY:הפרויקט של רביבו - קבלת שבת
DESCRIPTION:בס"ד \nזה כבר הפך למסורת – הקיץ מגיע ואיתו מופע קבלת השבת של הפרויקט של רביבו!\nכמו תמיד הכל עפ"י המתכון הסודי – מוזיקה טובה\, שמח\, אווירה אש\, נמל תל אביב\, אוכל\, אלכוהול\, חברים ומשפחה. \nפתיחת דלתות: 12:30        תחילת מופע: 14:00 \nכל הנוסטלגיות\, המחרוזות והשירים האהובים במסע בזמן שיעשה לכם טוב על הלב! \nהפרויקט של רביבו\, פרויקט המחרוזות הנוסטלגיות\, שהפך בשנים האחרונות להצלחה מסחררת ולתופעה תרבותית חדשה\, מציינים 13 שנות פעילות מוצלחות במהלכם נתנו למוסיקה הישראלית הישנה והטובה מקום של כבוד וגרמו לה להרים ראש ולהדביק גם קהל צעיר\, שהתאהב במוזיקה הישראלית – ים תיכונית. \nמאחורי ההרכב המצליח: מאות מיליוני צפיות והשמעות ביוטיוב וברשתות החברתיות\, מאות אלפי עוקבים ברשת\, אלבומי פלטינה וזהב ועשרות פרסי מוזיקה והוקרה. \nהפרויקט ידועים בהופעות ייחודיות\, שמחות ומרגשות המתאימות לקהל מאוד רחב ומגוון ובנוסף לכל זה\, לא שוכחים להעביר את משנתם – אהבת האדם בפרט ואהבת חינם ככלל. \nעל הבמה יחד עם חברי הפרויקט הרכב נגנים מורחב והכי חשוב שמחה בלי גבול! \n
URL:https://hangar11.co.il/events/event/%d7%94%d7%a4%d7%a8%d7%95%d7%99%d7%a7%d7%98-%d7%a9%d7%9c-%d7%a8%d7%91%d7%99%d7%91%d7%95-3/
LOCATION:האנגר 11\, Israel
CATEGORIES:מיינסטרים
ATTACH;FMTTYPE=image/jpeg:https://hangar11.co.il/events/wp-content/uploads/2025/03/2025_KABALAT_SHABAT_baner_mobile_1307x700px_blank.jpg
GEO:32.0964756;34.7740091
END:VEVENT
END:VCALENDAR