BEGIN:VCALENDAR
VERSION:2.0
PRODID:-//האנגר 11 - ECPv4.9.10//NONSGML v1.0//EN
CALSCALE:GREGORIAN
METHOD:PUBLISH
X-WR-CALNAME:האנגר 11
X-ORIGINAL-URL:https://hangar11.co.il/events
X-WR-CALDESC:Events for האנגר 11
BEGIN:VTIMEZONE
TZID:Asia/Jerusalem
BEGIN:DAYLIGHT
TZOFFSETFROM:+0200
TZOFFSETTO:+0300
TZNAME:IDT
DTSTART:20170324T000000
END:DAYLIGHT
BEGIN:STANDARD
TZOFFSETFROM:+0300
TZOFFSETTO:+0200
TZNAME:IST
DTSTART:20171028T230000
END:STANDARD
END:VTIMEZONE
BEGIN:VEVENT
DTSTART;TZID=Asia/Jerusalem:20171223T210000
DTEND;TZID=Asia/Jerusalem:20171223T210000
DTSTAMP:20260422T081439
CREATED:20171220T173140Z
LAST-MODIFIED:20171220T192908Z
UID:1417-1514062800-1514062800@hangar11.co.il
SUMMARY:הקסם של בואנה ויסטה Pasión de Buena Vista
DESCRIPTION:אחרי 600 הופעות\, ומעל 600 אלף צופים ברחבי הגלובוס\, המופע המרהיב מגיע לארץ לראשונה לספק לקהל הישראלי את החוויה הקובנית המושלמת. מופע גרנדיוזי קצבי שכולו אהבה למוזיקה הקובנית עם כל הלהיטים הגדולים \nבשילוב יוצא דופן של זמרים ורקדנים בתלבושות מרהיבות La Pasion de Buena Vista הוא מופע במה ייחודי ומרהיב שמוביל את הקהל ברחבי האי הקריבי דרך כל הלהיטים הגדולים של קובה: ״בסמה מוצ׳ו״\, La Vida es un Carnaval ועוד. ה Buena Vista Band\, הלהקה המוכשרת של המופע כוללת לא פחות מ 11 מוזיקאים מיומנים ומוכשרים בניצוחו של הבמאי המוסיקלי המפורסם רמון פואבלה. את המופע מלהיטים להקת הרקדנים ולא פחות מ 150 תלבושות מרהיבות שלצד תפאורה מרשימה והפקה מוזיקלית סוחפת הופכים את המופע לחוויה של פעם בחיים. \nחמושים במרקס וקלאוות\, סולני ההרכב יחד עם נבחרת זמרי ליווי מוכשרת ולהקת רקדנים ברמה בינלאומית מציגים את La Pasion de Buena Vista. מופע גרנדיוזי\, קצבי שכולו אהבה למוזיקה הקובנית המסורתית הסוחפת\, שהפכה בעשורים האחרונים לאהובה במיוחד ברחבי העולם\, בעיקר בזכות הBuena Vista Social Club. המופע כולל שמות כמו האצ׳ין אינוסנטה שהופיע עם איברהים פרר והסולן Jose Guillermo Puebla-Brizuela שהופיע עם ה Buena Vista Social Club האגדיים שהביאו לקדמת הבמה את סגנון ה״סון״ האהוב כל כך וריגשו מיליונים ברחבי העולם. \nה״סון״\, שבבסיסו זמרים סולנים מתחלפים ומקהלה המלווה ע״י גיטרות ספרדיות\, הוא ללא ספק סגנון המוזיקה הקובני הפופולרי ביותר. הוא הומצא על ידי חקלאים ועובדי סוכר בסנטיאגו קובה בשנות ה – 20 של של המאה הקודמת. בעזרת מרקס\, קלאווה\, חצוצרה\, בונגו וכלים נוספים\, נוצר שילוב מורכב ומאתגר של צלילים\, סאונד מכשף בעל פוטנציאל התמכרות גבוה. \nLa Pasion de Buena Vista מציג את ההיסטוריה של המוזיקה הקובנית ומעביר בצורה מלאה את המזג והאווירה החמים של קובה. מקצבים אקזוטיים לצד תפאורה מרשימה\, ייקחו אתכם למסע דרך לילות קובה המלהיבים! \n
URL:https://hangar11.co.il/events/event/%d7%94%d7%a7%d7%a1%d7%9d-%d7%a9%d7%9c-%d7%91%d7%95%d7%90%d7%a0%d7%94-%d7%95%d7%99%d7%a1%d7%98%d7%94-pasion-de-buena-vista-4/
LOCATION:האנגר 11\, Israel
ATTACH;FMTTYPE=image/jpeg:https://hangar11.co.il/events/wp-content/uploads/2017/12/Buena_Vista1024.jpg
GEO:32.0964756;34.7740091
END:VEVENT
END:VCALENDAR