BEGIN:VCALENDAR
VERSION:2.0
PRODID:-//האנגר 11 - ECPv4.9.10//NONSGML v1.0//EN
CALSCALE:GREGORIAN
METHOD:PUBLISH
X-WR-CALNAME:האנגר 11
X-ORIGINAL-URL:https://hangar11.co.il/events
X-WR-CALDESC:Events for האנגר 11
BEGIN:VTIMEZONE
TZID:Asia/Jerusalem
BEGIN:DAYLIGHT
TZOFFSETFROM:+0200
TZOFFSETTO:+0300
TZNAME:IDT
DTSTART:20170324T000000
END:DAYLIGHT
BEGIN:STANDARD
TZOFFSETFROM:+0300
TZOFFSETTO:+0200
TZNAME:IST
DTSTART:20171028T230000
END:STANDARD
END:VTIMEZONE
BEGIN:VEVENT
DTSTART;TZID=Asia/Jerusalem:20170516T220000
DTEND;TZID=Asia/Jerusalem:20170516T180000
DTSTAMP:20260419T214942
CREATED:20170307T123713Z
LAST-MODIFIED:20170307T123713Z
UID:1075-1494972000-1494957600@hangar11.co.il
SUMMARY:הראל סקעת
DESCRIPTION:אהבה מסובבת הכל\nחלפו יותר מעשר שנים(!) מאז יצא הסינגל הראשון של הראל סקעת כזמר מקצועי – "ואת"\, וכעת הוא חוזר עם אוסף חדש וחגיגי\, "אהבה מסובבת הכל"\, שבא לסכם את העשור האחרון ובעיקר – להעיף לכם ת'ראש!\nהאוסף יקבל תרגום בימתי מרענן ומפתיע בדמות מופע חדש\, צבעוני ומקפיץ\, תחת אותו שם – "אהבה מסובבת הכל"\, ובו ישיר הראל את כל הלהיטים האהובים והשירים החדשים.\nהמופע יושק בהאנגר 11 ביום שלישי\, 16 במאי 2017. \n
URL:https://hangar11.co.il/events/event/%d7%94%d7%a8%d7%90%d7%9c-%d7%a1%d7%a7%d7%a2%d7%aa/
LOCATION:האנגר 11\, Israel
ATTACH;FMTTYPE=image/jpeg:https://hangar11.co.il/events/wp-content/uploads/2017/03/harel_1070_375.jpg
GEO:32.0964756;34.7740091
END:VEVENT
END:VCALENDAR