BEGIN:VCALENDAR
VERSION:2.0
PRODID:-//האנגר 11 - ECPv4.9.10//NONSGML v1.0//EN
CALSCALE:GREGORIAN
METHOD:PUBLISH
X-WR-CALNAME:האנגר 11
X-ORIGINAL-URL:https://hangar11.co.il/events
X-WR-CALDESC:Events for האנגר 11
BEGIN:VTIMEZONE
TZID:Asia/Jerusalem
BEGIN:DAYLIGHT
TZOFFSETFROM:+0200
TZOFFSETTO:+0300
TZNAME:IDT
DTSTART:20160325T000000
END:DAYLIGHT
BEGIN:STANDARD
TZOFFSETFROM:+0300
TZOFFSETTO:+0200
TZNAME:IST
DTSTART:20161029T230000
END:STANDARD
END:VTIMEZONE
BEGIN:VEVENT
DTSTART;TZID=Asia/Jerusalem:20160412T210000
DTEND;TZID=Asia/Jerusalem:20160412T210000
DTSTAMP:20260419T200705
CREATED:20160331T105925Z
LAST-MODIFIED:20160331T105925Z
UID:623-1460494800-1460494800@hangar11.co.il
SUMMARY:השיעור השבועי של סיון רהב מאיר בנושא: "על התורה ועל המהדורה"
DESCRIPTION:
URL:https://hangar11.co.il/events/event/%d7%94%d7%a9%d7%99%d7%a2%d7%95%d7%a8-%d7%94%d7%a9%d7%91%d7%95%d7%a2%d7%99-%d7%a9%d7%9c-%d7%a1%d7%99%d7%95%d7%9f-%d7%a8%d7%94%d7%91-%d7%9e%d7%90%d7%99%d7%a8-%d7%91%d7%a0%d7%95%d7%a9%d7%90-%d7%a2/
LOCATION:favicon
ATTACH;FMTTYPE=:
END:VEVENT
END:VCALENDAR