BEGIN:VCALENDAR
VERSION:2.0
PRODID:-//האנגר 11 - ECPv4.9.10//NONSGML v1.0//EN
CALSCALE:GREGORIAN
METHOD:PUBLISH
X-WR-CALNAME:האנגר 11
X-ORIGINAL-URL:https://hangar11.co.il/events
X-WR-CALDESC:Events for האנגר 11
BEGIN:VTIMEZONE
TZID:Asia/Jerusalem
BEGIN:DAYLIGHT
TZOFFSETFROM:+0200
TZOFFSETTO:+0300
TZNAME:IDT
DTSTART:20160325T000000
END:DAYLIGHT
BEGIN:STANDARD
TZOFFSETFROM:+0300
TZOFFSETTO:+0200
TZNAME:IST
DTSTART:20161029T230000
END:STANDARD
END:VTIMEZONE
BEGIN:VEVENT
DTSTART;TZID=Asia/Jerusalem:20160422T200000
DTEND;TZID=Asia/Jerusalem:20160422T230000
DTSTAMP:20260419T232739
CREATED:20160413T171409Z
LAST-MODIFIED:20160413T171409Z
UID:625-1461355200-1461366000@hangar11.co.il
SUMMARY:חב"ד על החוף
DESCRIPTION:בחרתם כבר איפה לעשות את הסדר?\nבהאנגר 11 יתקיים הסדר הגדול של חב"ד על החוף. \n  \nלהרשמה: \nhttps://www.facebook.com/events/1043990005660208/ \n  \nחג חירות שמח\, \n  \n
URL:https://hangar11.co.il/events/event/%d7%97%d7%91%d7%93-%d7%a2%d7%9c-%d7%94%d7%97%d7%95%d7%a3/
LOCATION:favicon
ATTACH;FMTTYPE=:
END:VEVENT
END:VCALENDAR