BEGIN:VCALENDAR
VERSION:2.0
PRODID:-//האנגר 11 - ECPv4.9.10//NONSGML v1.0//EN
CALSCALE:GREGORIAN
METHOD:PUBLISH
X-WR-CALNAME:האנגר 11
X-ORIGINAL-URL:https://hangar11.co.il/events
X-WR-CALDESC:Events for האנגר 11
BEGIN:VTIMEZONE
TZID:Asia/Jerusalem
BEGIN:DAYLIGHT
TZOFFSETFROM:+0200
TZOFFSETTO:+0300
TZNAME:IDT
DTSTART:20190329T000000
END:DAYLIGHT
BEGIN:STANDARD
TZOFFSETFROM:+0300
TZOFFSETTO:+0200
TZNAME:IST
DTSTART:20191026T230000
END:STANDARD
END:VTIMEZONE
BEGIN:VEVENT
DTSTART;TZID=Asia/Jerusalem:20190309T213000
DTEND;TZID=Asia/Jerusalem:20190309T213000
DTSTAMP:20260421T052651
CREATED:20181225T114659Z
LAST-MODIFIED:20190306T134041Z
UID:2803-1552167000-1552167000@hangar11.co.il
SUMMARY:יניב בן משיח
DESCRIPTION:הזמר האומן והיוצר יניב בן משיח אשר הוציא עד היום כ9 אלבומים שבהם שלל גדול של להיטים \nמובילים במדינה  המושמעים ברוב תחנות הרדיו בארץ\, \nכמו 'בן אדם' אשר חצה 6 מילון השמעות \nואחרי שכבש את במת היכל התרבות בשנת  2011 \nועשה סיבוב הופעות ב'זאפה' בכל הארץ ו'רידינג 3' מספר פעמים וכל 'היכלי התרבות' בארץ. \nכולל הופעותיו בחו"ל בקהילות גדולות בין לאומיות. \nלאחר שכבש את המבות הנחשבות מגיע האומן יניב בן משיח לאנגר 11 ב09.03.19 נמל תל אביב.  \nשישיר את כל להיטיו החדשים 'נתת לי הכל' שעבר את המיליון צפיות \n'באתי אליך' \, 'השמחה שלנו\, 'בן אדם בן אדם' ועוד \nמחבר את להיטיו החדשים והישנים עם עיבודים חדשים ביחד אשר לא נשמעו עד היום. \nיניב בן משיח אומן אשר חיבר בין כל המגזרים ובמיוחד בשיריו חיבר בין דתיים לחילונים \, \nשיריו הפכו לנכס צאן ברזל כל ערב בחתונות ואירועים ששרים בהערצה \n
URL:https://hangar11.co.il/events/event/%d7%99%d7%a0%d7%99%d7%91-%d7%91%d7%9f-%d7%9e%d7%a9%d7%99%d7%97/
LOCATION:האנגר 11\, Israel
CATEGORIES:מזרחית
ATTACH;FMTTYPE=image/jpeg:https://hangar11.co.il/events/wp-content/uploads/2018/12/1000X750.jpg
GEO:32.0964756;34.7740091
END:VEVENT
END:VCALENDAR