BEGIN:VCALENDAR
VERSION:2.0
PRODID:-//האנגר 11 - ECPv4.9.10//NONSGML v1.0//EN
CALSCALE:GREGORIAN
METHOD:PUBLISH
X-WR-CALNAME:האנגר 11
X-ORIGINAL-URL:https://hangar11.co.il/events
X-WR-CALDESC:Events for האנגר 11
BEGIN:VTIMEZONE
TZID:Asia/Jerusalem
BEGIN:DAYLIGHT
TZOFFSETFROM:+0200
TZOFFSETTO:+0300
TZNAME:IDT
DTSTART:20170324T000000
END:DAYLIGHT
BEGIN:STANDARD
TZOFFSETFROM:+0300
TZOFFSETTO:+0200
TZNAME:IST
DTSTART:20171028T230000
END:STANDARD
END:VTIMEZONE
BEGIN:VEVENT
DTSTART;TZID=Asia/Jerusalem:20170121T220000
DTEND;TZID=Asia/Jerusalem:20170121T220000
DTSTAMP:20260419T215421
CREATED:20161124T095922Z
LAST-MODIFIED:20161230T180237Z
UID:729-1485036000-1485036000@hangar11.co.il
SUMMARY:כנסיית השכל - "האלבום הצהוב" עם אורחים
DESCRIPTION:אורחים: אריאל זילבר ואורחים נוספים\n"למיה יש אקדח"\, "היינו עושים אהבה"\, "קאנא ווחדה"\, "מיטות חולות"\, "מה נשאר"\, "ואת מתפשטת ( שקט )"\, "אגדה מוזרה"- הם רק חלק מהלהיטים שהפכו את כנסיית השכל לאחת מלהקות הרוק המוערכות\, ואת "האלבום הצהוב" לאחד מאלבומי המופת במוזיקה הישראלית.\n"כנסיית השכל" או כפי שהוא מוכר לכולם "האלבום הצהוב" הוא אלבומה השלישי של הלהקה אשר יצא ב-1999 . את האלבום הפיק קובי אוז במסגרת הלייבל " לבנטיני" שהקים. אלבום זה הנפיק מספר להיטים גדול אשר מלווים את הלהקה מאז ועד היום\, זכה להצלחה גדולה והגיע למעמד פלטינה. הסינגלים שייצאו ממנו\, הגיעו לראש המצעדים בתחנות רדיו השונות\, ובאותה שנה\, הלהקה אף זכתה בתואר "להקת השנה". אלבום זה מייצג אבן דרך משמעותית בקריירה המוסיקלית של כנסיית השכל.\nבמופע המיוחד לפסטיבל\, כנסיית השכל תנגן את האלבום כולו מתחילתו ועד סופו לפי סדר השירים באלבום\, וכמו כן גם תארח את אריאל זילבר ודקלה לשיתוף פעולה ייחודי עם להיטים מכל האלבומים.\nבימים אלו כנסיית השכל בדרך להוצאת אלבום חדש\, התשיעי במספר\, אותו הפקידו בידיו המוכשרות של המפיק אמיר צורף. לאחר כ 25 שנות פעילות המושתתות על רוק'נרול משובח\, אנרגטי וסוחף\, ועם סאונד ייחודי ושירים שהפכו לנכסי צאן ברזל\, כנסיית השכל היא מהלהקות האהובות והמצליחות אשר הטביעו חותמם בפסקול הישראלי.\nעל הבמה:\nיורם חזן – שירה\, גיטרה וסקסופון\nרן אלמליח – בס ושירה\nדוד רז – גיטרות\nעמי רייס – קלידים \,אקורדיון\nדניאל זייבלט – תופים \n
URL:https://hangar11.co.il/events/event/%d7%9b%d7%a0%d7%a1%d7%99%d7%99%d7%aa-%d7%94%d7%a9%d7%9b%d7%9c-%d7%94%d7%90%d7%9c%d7%91%d7%95%d7%9d-%d7%94%d7%a6%d7%94%d7%95%d7%91-%d7%a2%d7%9d-%d7%90%d7%95%d7%a8%d7%97%d7%99%d7%9d/
LOCATION:האנגר 11\, Israel
ATTACH;FMTTYPE=image/jpeg:https://hangar11.co.il/events/wp-content/uploads/2016/11/375x1070_knes.jpg
GEO:32.0964756;34.7740091
END:VEVENT
END:VCALENDAR