BEGIN:VCALENDAR
VERSION:2.0
PRODID:-//האנגר 11 - ECPv4.9.10//NONSGML v1.0//EN
CALSCALE:GREGORIAN
METHOD:PUBLISH
X-WR-CALNAME:האנגר 11
X-ORIGINAL-URL:https://hangar11.co.il/events
X-WR-CALDESC:Events for האנגר 11
BEGIN:VTIMEZONE
TZID:Asia/Jerusalem
BEGIN:DAYLIGHT
TZOFFSETFROM:+0200
TZOFFSETTO:+0300
TZNAME:IDT
DTSTART:20170324T000000
END:DAYLIGHT
BEGIN:STANDARD
TZOFFSETFROM:+0300
TZOFFSETTO:+0200
TZNAME:IST
DTSTART:20171028T230000
END:STANDARD
END:VTIMEZONE
BEGIN:VEVENT
DTSTART;TZID=Asia/Jerusalem:20170601T223000
DTEND;TZID=Asia/Jerusalem:20170601T180000
DTSTAMP:20260419T184535
CREATED:20170420T214454Z
LAST-MODIFIED:20170420T214454Z
UID:1147-1496356200-1496340000@hangar11.co.il
SUMMARY:ליאור נרקיס מארח את ספיר סבן
DESCRIPTION:ליאור נרקיס  מהאמנים הבולטים בישראל \,הוכתר לא פעם כ"פרפורמר של המדינה". \nבמופע ליאור נרקיס יארח את זוכת "דה וויס" ספיר סבן!  \nליאור מציג מופע סוחף ואנרגטי הכולל רשימה ארוכה של להיטים אשר כבשו את תחנות הרדיו ואת רחבות הריקודים. ביניהם:  "ריחות של אלכוהול \, " שגעת טרפת"  \,  " אש" \,"מהפכה של שמחה"\, "עשינו היסטוריה " ו "מול כל העולם".  \n
URL:https://hangar11.co.il/events/event/%d7%9c%d7%99%d7%90%d7%95%d7%a8-%d7%a0%d7%a8%d7%a7%d7%99%d7%a1-%d7%9e%d7%90%d7%a8%d7%97-%d7%90%d7%aa-%d7%a1%d7%a4%d7%99%d7%a8-%d7%a1%d7%91%d7%9f/
LOCATION:האנגר 11\, Israel
ATTACH;FMTTYPE=image/jpeg:https://hangar11.co.il/events/wp-content/uploads/2017/04/lior-narkis.jpg
GEO:32.0964756;34.7740091
END:VEVENT
END:VCALENDAR