BEGIN:VCALENDAR
VERSION:2.0
PRODID:-//האנגר 11 - ECPv4.9.10//NONSGML v1.0//EN
CALSCALE:GREGORIAN
METHOD:PUBLISH
X-WR-CALNAME:האנגר 11
X-ORIGINAL-URL:https://hangar11.co.il/events
X-WR-CALDESC:Events for האנגר 11
BEGIN:VTIMEZONE
TZID:Asia/Jerusalem
BEGIN:DAYLIGHT
TZOFFSETFROM:+0200
TZOFFSETTO:+0300
TZNAME:IDT
DTSTART:20200327T000000
END:DAYLIGHT
BEGIN:STANDARD
TZOFFSETFROM:+0300
TZOFFSETTO:+0200
TZNAME:IST
DTSTART:20201024T230000
END:STANDARD
END:VTIMEZONE
BEGIN:VEVENT
DTSTART;TZID=Asia/Jerusalem:20200227T213000
DTEND;TZID=Asia/Jerusalem:20200227T213000
DTSTAMP:20260420T084338
CREATED:20191128T124652Z
LAST-MODIFIED:20200227T083046Z
UID:3572-1582839000-1582839000@hangar11.co.il
SUMMARY:לירן דנינו
DESCRIPTION:לירן דנינו מהאמנים המובילים בישראל\, באחת מהההופעות הגדולות ביותר שלו.\nלירן דנינו במופע חדש עם להיטיו הגדולים!\nלרגל צאת אלבומו החדש לאחר שנתיים של הפסקה\, חוזר לירן דנינו במופע חדש בהפקה מוסיקלית חדשה עם להקה בת 6 נגנים בהאנגר 11 ת"א.\nבמופע יבצע לירן את כל שיריו הגדולים ואת השירים החדשים: "יש ימים"\, "עדיין ריק"\, "ללכת"\, "חוזר אלייך"\, "שמלה כחולה"\, "הרבה ממך נשאר"\, "סיפור ישן" ואחרים.\nבנוסף\, על הבמה הוא מבצע את הלהיט הענק "אחת כמוני" שכבש את הרדיו\, ואת הסינגל החדש "מאושרים" שמככב במקום הראשון במצעד השבועי של גלגלצ\n\nלירן דנינו\, הזמר עם הקול הענק\, חוזר לבמה לערב מיוחד בהופעה מרגשת במיוחד!\n
URL:https://hangar11.co.il/events/event/%d7%9c%d7%99%d7%a8%d7%9f-%d7%93%d7%a0%d7%99%d7%a0%d7%95/
LOCATION:האנגר 11\, Israel
CATEGORIES:מיינסטרים
ATTACH;FMTTYPE=image/jpeg:https://hangar11.co.il/events/wp-content/uploads/2019/11/danino-kupot-1000x715.jpg
GEO:32.0964756;34.7740091
END:VEVENT
END:VCALENDAR