BEGIN:VCALENDAR
VERSION:2.0
PRODID:-//האנגר 11 - ECPv4.9.10//NONSGML v1.0//EN
CALSCALE:GREGORIAN
METHOD:PUBLISH
X-WR-CALNAME:האנגר 11
X-ORIGINAL-URL:https://hangar11.co.il/events
X-WR-CALDESC:Events for האנגר 11
BEGIN:VTIMEZONE
TZID:Asia/Jerusalem
BEGIN:DAYLIGHT
TZOFFSETFROM:+0200
TZOFFSETTO:+0300
TZNAME:IDT
DTSTART:20220325T000000
END:DAYLIGHT
BEGIN:STANDARD
TZOFFSETFROM:+0300
TZOFFSETTO:+0200
TZNAME:IST
DTSTART:20221029T230000
END:STANDARD
END:VTIMEZONE
BEGIN:VEVENT
DTSTART;TZID=Asia/Jerusalem:20221006T213000
DTEND;TZID=Asia/Jerusalem:20221006T213000
DTSTAMP:20260419T143811
CREATED:20220824T083802Z
LAST-MODIFIED:20220907T132959Z
UID:5026-1665091800-1665091800@hangar11.co.il
SUMMARY:מאור אדרי - מופע העשור
DESCRIPTION:הזמר והיוצר מאור אדרי אשר ביסס את מעמודו כאחד מהזמרים המובילים והבולטים בארץ חוגג עשור של עשיה גדושה\nומגיע אלינו למופע בלתי נשכח אשר יסכם 10 שנות פעילות מוסיקלית בהאנגר 11 נמל תל אביב\, על המה יבצע אדרי את מיטב שיריו מכל הזמנים מהאלבום הראשון ועד היום.\nבמופע העשור של אדרי יהיו המון הפתעות וחידושים תאורה ומסכים ברמה הגבוה ביותר רקדניות עיבודים חדשים לשירו מכל הזמנים ואירוח של אמנים מהשורה הראשונה\nאבל הכי הכי חשוב יהיה שמח כמו שרק מאור אדרי יודע לעשות! \nנתראה ! \n
URL:https://hangar11.co.il/events/event/%d7%9e%d7%90%d7%95%d7%a8-%d7%90%d7%93%d7%a8%d7%99-%d7%9e%d7%95%d7%a4%d7%a2-%d7%94%d7%a2%d7%a9%d7%95%d7%a8/
LOCATION:האנגר 11\, יורדי הסירה 1\, תל אביב\, Israel
CATEGORIES:מיינסטרים,פופ ישראלי
ATTACH;FMTTYPE=image/jpeg:https://hangar11.co.il/events/wp-content/uploads/2022/08/מאור-אדרי-1.jpg
END:VEVENT
END:VCALENDAR