BEGIN:VCALENDAR
VERSION:2.0
PRODID:-//האנגר 11 - ECPv4.9.10//NONSGML v1.0//EN
CALSCALE:GREGORIAN
METHOD:PUBLISH
X-WR-CALNAME:האנגר 11
X-ORIGINAL-URL:https://hangar11.co.il/events
X-WR-CALDESC:Events for האנגר 11
BEGIN:VTIMEZONE
TZID:Asia/Jerusalem
BEGIN:DAYLIGHT
TZOFFSETFROM:+0200
TZOFFSETTO:+0300
TZNAME:IDT
DTSTART:20250328T000000
END:DAYLIGHT
BEGIN:STANDARD
TZOFFSETFROM:+0300
TZOFFSETTO:+0200
TZNAME:IST
DTSTART:20251025T230000
END:STANDARD
END:VTIMEZONE
BEGIN:VEVENT
DTSTART;TZID=Asia/Jerusalem:20250226T200000
DTEND;TZID=Asia/Jerusalem:20250226T200000
DTSTAMP:20260422T163552
CREATED:20250102T093957Z
LAST-MODIFIED:20250102T093957Z
UID:6370-1740600000-1740600000@hangar11.co.il
SUMMARY:מועדון הקצב של אביהו פנחסוב
DESCRIPTION:מועדון הקצב של אביהו פנחסוב מציג: \n״בבון של יפו״ מופע חדש\, אלבום חדש\, הפתעות\, קרקס\, רקדנים\, רקדניות\, אורחים\, זיקוקים\, זיעה וטירוף חושים. \n״אני יודע רק איך המופע מתחיל\, האמת\, גם את זה אני לא יודע״  \nא.פנחסוב \n\n17.1 – סולד אאוט  \nלאור הביקוש נפתח מופע נוסף !  \n26.2 האנגר 11 ת״א. \n
URL:https://hangar11.co.il/events/event/%d7%9e%d7%95%d7%a2%d7%93%d7%95%d7%9f-%d7%94%d7%a7%d7%a6%d7%91-%d7%a9%d7%9c-%d7%90%d7%91%d7%99%d7%94%d7%95-%d7%a4%d7%a0%d7%97%d7%a1%d7%95%d7%91-4/
LOCATION:האנגר 11\, Israel
CATEGORIES:מיינסטרים
ATTACH;FMTTYPE=image/jpeg:https://hangar11.co.il/events/wp-content/uploads/2025/01/haangar-1200X650-new-copy.jpg
GEO:32.0964756;34.7740091
END:VEVENT
END:VCALENDAR