BEGIN:VCALENDAR
VERSION:2.0
PRODID:-//האנגר 11 - ECPv4.9.10//NONSGML v1.0//EN
CALSCALE:GREGORIAN
METHOD:PUBLISH
X-WR-CALNAME:האנגר 11
X-ORIGINAL-URL:https://hangar11.co.il/events
X-WR-CALDESC:Events for האנגר 11
BEGIN:VTIMEZONE
TZID:Asia/Jerusalem
BEGIN:DAYLIGHT
TZOFFSETFROM:+0200
TZOFFSETTO:+0300
TZNAME:IDT
DTSTART:20180323T000000
END:DAYLIGHT
BEGIN:STANDARD
TZOFFSETFROM:+0300
TZOFFSETTO:+0200
TZNAME:IST
DTSTART:20181027T230000
END:STANDARD
END:VTIMEZONE
BEGIN:VEVENT
DTSTART;TZID=Asia/Jerusalem:20180312T203000
DTEND;TZID=Asia/Jerusalem:20180312T203000
DTSTAMP:20260419T140930
CREATED:20180102T195321Z
LAST-MODIFIED:20180310T121342Z
UID:1544-1520886600-1520886600@hangar11.co.il
SUMMARY:מופע התרמה למען ילדי שמחה לילד
DESCRIPTION:אביתר בנאי\nמנגנים אהבה\nמופע התרמה למען ילדי שמחה לילד\nבהנחיית גלית גוטמן \nהאנגר 11\, נמל תל אביב \nההכנסות קודש עבור ילדי שמחה לילד. עמותת שמחה לילד מעניקה למאות ילדים חולים ובני משפחותיהם שמחה\, תקווה ואמונה ביכולת ובזכות שלהם לחיות ולממש את עצמם. בעזרתכם נמשיך לפעול ולעשות. \n
URL:https://hangar11.co.il/events/event/%d7%9e%d7%95%d7%a4%d7%a2-%d7%94%d7%aa%d7%a8%d7%9e%d7%94-%d7%9c%d7%9e%d7%a2%d7%9f-%d7%99%d7%9c%d7%93%d7%99-%d7%a9%d7%9e%d7%97%d7%94-%d7%9c%d7%99%d7%9c%d7%93-2/
LOCATION:האנגר 11\, Israel
CATEGORIES:פופ ישראלי
ATTACH;FMTTYPE=image/jpeg:https://hangar11.co.il/events/wp-content/uploads/2018/01/1000x715.jpg
GEO:32.0964756;34.7740091
END:VEVENT
END:VCALENDAR