BEGIN:VCALENDAR
VERSION:2.0
PRODID:-//האנגר 11 - ECPv4.9.10//NONSGML v1.0//EN
CALSCALE:GREGORIAN
METHOD:PUBLISH
X-WR-CALNAME:האנגר 11
X-ORIGINAL-URL:https://hangar11.co.il/events
X-WR-CALDESC:Events for האנגר 11
BEGIN:VTIMEZONE
TZID:Asia/Jerusalem
BEGIN:DAYLIGHT
TZOFFSETFROM:+0200
TZOFFSETTO:+0300
TZNAME:IDT
DTSTART:20170324T000000
END:DAYLIGHT
BEGIN:STANDARD
TZOFFSETFROM:+0300
TZOFFSETTO:+0200
TZNAME:IST
DTSTART:20171028T230000
END:STANDARD
END:VTIMEZONE
BEGIN:VEVENT
DTSTART;TZID=Asia/Jerusalem:20170320T203000
DTEND;TZID=Asia/Jerusalem:20170320T203000
DTSTAMP:20260419T215441
CREATED:20170118T115450Z
LAST-MODIFIED:20170209T074303Z
UID:893-1490041800-1490041800@hangar11.co.il
SUMMARY:מופע התרמה למען ילדי שמחה לילד - 2017
DESCRIPTION:
URL:https://hangar11.co.il/events/event/%d7%9e%d7%95%d7%a4%d7%a2-%d7%94%d7%aa%d7%a8%d7%9e%d7%94-%d7%9c%d7%9e%d7%a2%d7%9f-%d7%99%d7%9c%d7%93%d7%99-%d7%a9%d7%9e%d7%97%d7%94-%d7%9c%d7%99%d7%9c%d7%93/
LOCATION:האנגר 11\, Israel
ATTACH;FMTTYPE=image/jpeg:https://hangar11.co.il/events/wp-content/uploads/2017/01/-e1484761804148.jpg
GEO:32.0964756;34.7740091
END:VEVENT
END:VCALENDAR