BEGIN:VCALENDAR
VERSION:2.0
PRODID:-//האנגר 11 - ECPv4.9.10//NONSGML v1.0//EN
CALSCALE:GREGORIAN
METHOD:PUBLISH
X-WR-CALNAME:האנגר 11
X-ORIGINAL-URL:https://hangar11.co.il/events
X-WR-CALDESC:Events for האנגר 11
BEGIN:VTIMEZONE
TZID:Asia/Jerusalem
BEGIN:DAYLIGHT
TZOFFSETFROM:+0200
TZOFFSETTO:+0300
TZNAME:IDT
DTSTART:20160325T000000
END:DAYLIGHT
BEGIN:STANDARD
TZOFFSETFROM:+0300
TZOFFSETTO:+0200
TZNAME:IST
DTSTART:20161029T230000
END:STANDARD
END:VTIMEZONE
BEGIN:VEVENT
DTSTART;TZID=Asia/Jerusalem:20160603T143000
DTEND;TZID=Asia/Jerusalem:20160603T143000
DTSTAMP:20260420T042513
CREATED:20160413T170357Z
LAST-MODIFIED:20161117T092519Z
UID:624-1464964200-1464964200@hangar11.co.il
SUMMARY:מופע שישי צהריים אייל גולן וליאור נרקיס
DESCRIPTION:עקב אירועי מצעד הגאווה \,ביום האירוע יסומנו החסימות ודרכי גישה באפליקציית WAZE מומלץ –\nלהתעדכן על דרכי הגעה לנמל ת"א למתחם האנגר 11. \n\nמצפים לראותכם:) \n\n
URL:https://hangar11.co.il/events/event/%d7%9e%d7%95%d7%a4%d7%a2-%d7%a9%d7%99%d7%a9%d7%99-%d7%a6%d7%94%d7%a8%d7%99%d7%99%d7%9d-%d7%90%d7%99%d7%99%d7%9c-%d7%92%d7%95%d7%9c%d7%9f-%d7%95%d7%9c%d7%99%d7%90%d7%95%d7%a8-%d7%a0%d7%a8%d7%a7%d7%99/
LOCATION:favicon
ATTACH;FMTTYPE=:
END:VEVENT
END:VCALENDAR