BEGIN:VCALENDAR
VERSION:2.0
PRODID:-//האנגר 11 - ECPv4.9.10//NONSGML v1.0//EN
CALSCALE:GREGORIAN
METHOD:PUBLISH
X-WR-CALNAME:האנגר 11
X-ORIGINAL-URL:https://hangar11.co.il/events
X-WR-CALDESC:Events for האנגר 11
BEGIN:VTIMEZONE
TZID:Asia/Jerusalem
BEGIN:DAYLIGHT
TZOFFSETFROM:+0200
TZOFFSETTO:+0300
TZNAME:IDT
DTSTART:20250328T000000
END:DAYLIGHT
BEGIN:STANDARD
TZOFFSETFROM:+0300
TZOFFSETTO:+0200
TZNAME:IST
DTSTART:20251025T230000
END:STANDARD
END:VTIMEZONE
BEGIN:VEVENT
DTSTART;TZID=Asia/Jerusalem:20250208T210000
DTEND;TZID=Asia/Jerusalem:20250208T210000
DTSTAMP:20260421T162607
CREATED:20241204T085209Z
LAST-MODIFIED:20241209T151844Z
UID:6322-1739048400-1739048400@hangar11.co.il
SUMMARY:מוצ"ש - שלומי שבת
DESCRIPTION:גם אחרי 40 שנות קריירה שלומי שבת לא עוצר לרגע וממשיך לגלות ולהתנסות בעולמות מוסיקליים שונים והפעם פותח מופע אקסקלוסיבי בפסטיבל קנדל לייב עם מופע מיוחד ומרגש ושוב מצליח לחדש ולסקרן את הקהל הישראלי. \nהמופע האינטימי של שלומי שבת יכלול הרכב מצומצם הכולל ארבעה נגנים חדשים ורשימת שירים מפוארת שעברה התאמות ועיבוד מוסיקלי חדש של ליעד גרושקה \nנגנים: \nליעד גרושקה: פסנתר ומעבד מוסיקלי | עומרי זליג- גיטרות  | נדב גיימן- פרקשן | דוד אסרף- נשיפה \n
URL:https://hangar11.co.il/events/event/%d7%9e%d7%95%d7%a6%d7%a9-%d7%a9%d7%9c%d7%95%d7%9e%d7%99-%d7%a9%d7%91%d7%aa/
LOCATION:האנגר 11\, Israel
CATEGORIES:מיינסטרים
ATTACH;FMTTYPE=image/jpeg:https://hangar11.co.il/events/wp-content/uploads/2024/12/שלומי-שבת.jpg
GEO:32.0964756;34.7740091
END:VEVENT
END:VCALENDAR