BEGIN:VCALENDAR
VERSION:2.0
PRODID:-//האנגר 11 - ECPv4.9.10//NONSGML v1.0//EN
CALSCALE:GREGORIAN
METHOD:PUBLISH
X-WR-CALNAME:האנגר 11
X-ORIGINAL-URL:https://hangar11.co.il/events
X-WR-CALDESC:Events for האנגר 11
BEGIN:VTIMEZONE
TZID:Asia/Jerusalem
BEGIN:DAYLIGHT
TZOFFSETFROM:+0200
TZOFFSETTO:+0300
TZNAME:IDT
DTSTART:20260327T000000
END:DAYLIGHT
BEGIN:STANDARD
TZOFFSETFROM:+0300
TZOFFSETTO:+0200
TZNAME:IST
DTSTART:20261024T230000
END:STANDARD
END:VTIMEZONE
BEGIN:VEVENT
DTSTART;TZID=Asia/Jerusalem:20260103T180000
DTEND;TZID=Asia/Jerusalem:20260103T180000
DTSTAMP:20260419T170637
CREATED:20251229T213100Z
LAST-MODIFIED:20251229T213100Z
UID:6748-1767463200-1767463200@hangar11.co.il
SUMMARY:מסיבת חתונה ללא חתן וכלה
DESCRIPTION:לראשונה מזה שנתיים אני מרגיש בנוח לכתוב: בוא לחגוג!\nליין מסיבות חתונה ללא חתן וכלה חוזר ובגדול \n  \nאוהבים מוזיקת מיינסטרים\, כזו שמנגנים בחתונות ולא במסיבות טכנו\, אבל כל החברים כבר מזמן סיימו להתחתן ואתם מוצאים את עצמכם תוהים לאיזו חתונה אפשר להסתנן כדי לרקוד?\nנגמרו התהיות! \n  \nמסיבת חתונה ללא חתן וכלה – כשמה כן היא\nמסיבה עם מוזיקת מיינסטרים מכל העשורים ובכל הסגנונות\, ממש כמו בחתונה רק בלי הטקס והצ׳ק 🙂 \n
URL:https://hangar11.co.il/events/event/%d7%9e%d7%a1%d7%99%d7%91%d7%aa-%d7%97%d7%aa%d7%95%d7%a0%d7%94-%d7%9c%d7%9c%d7%90-%d7%97%d7%aa%d7%9f-%d7%95%d7%9b%d7%9c%d7%94-4/
LOCATION:אולם האנגר קלאב – מתחם האנגר 11\, אולם הפדרציה\, נמל תל אביב\, תל אביב
CATEGORIES:DJ,אוכל שתייה גבר אישה,אותנטי
ATTACH;FMTTYPE=image/jpeg:https://hangar11.co.il/events/wp-content/uploads/2025/12/גרפיקה-פיני-דקל-3.1.26.jpeg
GEO:32.0964825;34.7732737
X-APPLE-STRUCTURED-LOCATION;VALUE=URI;X-ADDRESS=אולם האנגר קלאב – מתחם האנגר 11 אולם הפדרציה נמל תל אביב תל אביב;X-APPLE-RADIUS=500;X-TITLE=אולם הפדרציה\, נמל תל אביב:geo:34.7732737,32.0964825
END:VEVENT
END:VCALENDAR