BEGIN:VCALENDAR
VERSION:2.0
PRODID:-//האנגר 11 - ECPv4.9.10//NONSGML v1.0//EN
CALSCALE:GREGORIAN
METHOD:PUBLISH
X-WR-CALNAME:האנגר 11
X-ORIGINAL-URL:https://hangar11.co.il/events
X-WR-CALDESC:Events for האנגר 11
BEGIN:VTIMEZONE
TZID:Asia/Jerusalem
BEGIN:DAYLIGHT
TZOFFSETFROM:+0200
TZOFFSETTO:+0300
TZNAME:IDT
DTSTART:20250328T000000
END:DAYLIGHT
BEGIN:STANDARD
TZOFFSETFROM:+0300
TZOFFSETTO:+0200
TZNAME:IST
DTSTART:20251025T230000
END:STANDARD
END:VTIMEZONE
BEGIN:VEVENT
DTSTART;TZID=Asia/Jerusalem:20251104T210000
DTEND;TZID=Asia/Jerusalem:20251104T210000
DTSTAMP:20260419T171443
CREATED:20251103T105905Z
LAST-MODIFIED:20251103T105905Z
UID:6680-1762290000-1762290000@hangar11.co.il
SUMMARY:נוסעים לאנפילד | ליברפול ריאל | פנייה מדרידיסטה & ואמוס ריאל
DESCRIPTION:אנפילד. \nליברפול. \nקבוצה שאנחנו מכבדים. \nאצטדיון שאנחנו מכבדים. \nולכן אנחנו מגיעים שוב בענווה\, שוב בצניעות\, אך \nעם רוח גבית מקלאסיקו גדול והרבה לב\, \nבאים לקחת את טופ 8 בגאון\, \nולנצח בביתה שלה\, \nיריבה קשה ואיכותית. \nאחרי הקרנת הקלאסיקו \nהמון המון שאלות על הקרנת ליברפול \nכיף שכל כך הרבה רוצים להגיע! \nולכן מסתמן לו אירוע גדול! \nהאנגר 11! \nהאולם הגדול או הקטן ? תלוי בכם ! \nהצפי הוא לגדול וגם הרצון שלנו ! \nהצביעו ברגליים ! ! ! ! ! \nאז אהלן שוב לאוהדי ריאל מדריד בישראל ! \nהתגעגעתם להקרנות הענק שלנו??? \n04.11.2025 || יום ג׳ || 20:30 מתחילים! \n22:00 שריקת הפתיחה של המשחק! \nלפני על הבמה – פאנל של הפודקאסט של פנייה מדרידיסטה ישראל ! אסף שקד\, גיא משפתי\, דורון הורנפלד\, עידן כסיף x יוסי עדני – חולה על כדורגל ! \nטריוויה\, חידונים\, פרסים\, הכנה למשחק ! \nשווה להקדים וליהנות מכל האירוע הזה ! \nכי חוזרים להיכל של המדינה\, לברנבאו של ישראל\, לא משנה איך תבחרו לקרוא לו\, זה הכי קרוב שיש לאווירה של משחק (חוץ מברי המזל שבמשחק עצמו). כמה התגעגענו האנגר 3> \nהמקום יפתח ב20:30\, יהיו מרצ׳נדייז (חולצות\, צעיפים\, תיקים)\, יהיו ברים לשתיה ודוכנים לאוכל\, מסך ענקי כמובן ולא מקרן אלא מסך קולנוע איכותי ברמות הגבוהות ביותר ! \nמי שמכיר והיה יודע ומי שלא – כנסו לראות סרטונים או תמונות בפלטפורמות השונות של ואמוס. \nכמובן שכמה דק׳ לפני המשחק נקיים את דקת הדומיה שלנו לאוהדי הקבוצה שכבר אינם איתנו בעקבות המלחמה + מיצג הזכרון יהיה גם כן. \n*התפריט כשר הן שתיה והן אוכל כיאה למקום שכשר. \nהאירוע לכל הגילאים ! \nחניונים בתוך נמל ת״א בתשלום (בין 25₪ ועד 40₪\, יש מספר חניונים כאלו\, מה שכן יש גם חניונים של תשלום לפי שעה שעליהם כדאי שתוותרו מי שמעדיף לחסוך\, יש מספיק אחרים בנמל\, הלפי שעה יוצאים די יקרים) או בחניון הרידינג מחוץ לנמל בחינם. \nחברים\, מחירים! \nהצלחנו לדאוג למחיר כניסה של 60 ש״ח כמחיר ראשון (רק עשרה שקלים יותר מהקלאסיקו והאירוע הרבה יותר יקר למשל בשל זכויות שידור ליגת האלופות)\, זה כרטיס במלאי מוגבל וכידוע בהחלט מחיר זול להאנגר 11 (ניתן להכנס לאתר המקום ולראות מחירי מופעים ואירועים)\, מבקשים מכם לשריין מראש ובכך להראות הערכה\, כמו גם שוב נגיד\, זהו מחיר ראשון במלאי מוגבל\, תרכשו מראש? יהיה לכם. תתעכבו? המחיר יעלה במעט. מעדכנים בפלטפורמות השונות מתי מחיר עולה וכד׳ מראש. \nשנסכם? \nשלישי ה 04.11\, החל מ20:30… \nחוזרים לאנפילד. חוזרים להאנגר 11. \nכתובת – נמל ת״א\, האנגר 11 בתוך הנמל. \n20:30 פתיחת דלתות. \n21:00 פאנל על הבמה. \n21:55 דקת ״דומיה״ והמנון הקבוצה. \n22:00 המשחק מתחיל על מסך ענק!!!!!!! \n*עם תפאורת ריאל מדריד מסביב! \n*מקומות ישיבה לכל הנוכחים באירוע! \n*אוכל\, שתיה (קלה וחריפה) כשר! \n*שפע חניה בנמל! \n*האירוע לכל הגילאים! \n*יהיו מרצ׳נדייז – חולצות מקוריות מאת The Gallery Football Shop\, ותיקים וצעיפים בעיצובים מקוריים של הקבוצה. \n*אין החזרים כספיים – למעט ביטול האירוע או מקרה חירום רפואי. מקרים מיוחדים יטופלו לשיקול דעתנו\, בפניה בוואטספ/מייל. כמובן שזה אירוע אוהדים וכל אחד יקבל מענה והבנה מקסימליים! \n*מוקפצים למילואים יזוכו באופן מיידי (ומקרים דומים לכך). \n*למען הסר ספק האירוע יתנהל על פי הנחיות פיקוד העורף\, בסמוך למרחב מוגן\, תחת אבטחה מלאה וסינון קפדני. \n*כניסה למקום בלבוש הולם בלבד\, בקיצור שימו על עצמכם חולצה של ריאל או לכל הפחות לבנה ואיזה מרצ׳ מגניב ! \n*הכניסה ללא חפצים חדים\, שתיה או מזון. \n*נושאי נשק – נא להגיע עם האישורים הנדרשים. \n*אין כניסה עם חולצה של הקבוצה היריבה או קבוצה מתחרה אחרת ! לא יוחזר התשלום על כך. \nאוהדי ריאל… \nבשביל הרגעים האלו אנחנו חיים!!! \nתכינו: \nדגלים! \nצעיפים! \nחולצות! \nואפילו את הכסא???? \n???????? HALA MADRID Y NADA MAS ???????? \nהאירוע בהפקת VAMOS Screenings IL וחברים בו ארגונים וקהילות: פנייה מדרידיסטה ישראל\, כריסטיאנו רונאלדו ישראל\, חולה על כדורגל\, ריאל מדריד ישראל\, בלאנקוס פאנס וכלל הקהילות הישראליות של ריאל מדריד ברחבי המדיה. \n
URL:https://hangar11.co.il/events/event/%d7%a0%d7%95%d7%a1%d7%a2%d7%99%d7%9d-%d7%9c%d7%90%d7%a0%d7%a4%d7%99%d7%9c%d7%93-%d7%9c%d7%99%d7%91%d7%a8%d7%a4%d7%95%d7%9c-%d7%a8%d7%99%d7%90%d7%9c-%d7%a4%d7%a0%d7%99%d7%99%d7%94-%d7%9e%d7%93/
LOCATION:אולם האנגר קלאב – מתחם האנגר 11\, אולם הפדרציה\, נמל תל אביב\, תל אביב
CATEGORIES:מיינסטרים
ATTACH;FMTTYPE=image/jpeg:https://hangar11.co.il/events/wp-content/uploads/2025/11/NassyStudio_ShayR_realM2adrid_1080x1080_1025-copy-2.jpg
GEO:32.0964825;34.7732737
X-APPLE-STRUCTURED-LOCATION;VALUE=URI;X-ADDRESS=אולם האנגר קלאב – מתחם האנגר 11 אולם הפדרציה נמל תל אביב תל אביב;X-APPLE-RADIUS=500;X-TITLE=אולם הפדרציה\, נמל תל אביב:geo:34.7732737,32.0964825
END:VEVENT
END:VCALENDAR