BEGIN:VCALENDAR
VERSION:2.0
PRODID:-//האנגר 11 - ECPv4.9.10//NONSGML v1.0//EN
CALSCALE:GREGORIAN
METHOD:PUBLISH
X-WR-CALNAME:האנגר 11
X-ORIGINAL-URL:https://hangar11.co.il/events
X-WR-CALDESC:Events for האנגר 11
BEGIN:VTIMEZONE
TZID:Asia/Jerusalem
BEGIN:DAYLIGHT
TZOFFSETFROM:+0200
TZOFFSETTO:+0300
TZNAME:IDT
DTSTART:20220325T000000
END:DAYLIGHT
BEGIN:STANDARD
TZOFFSETFROM:+0300
TZOFFSETTO:+0200
TZNAME:IST
DTSTART:20221029T230000
END:STANDARD
END:VTIMEZONE
BEGIN:VEVENT
DTSTART;TZID=Asia/Jerusalem:20220219T213000
DTEND;TZID=Asia/Jerusalem:20220219T213000
DTSTAMP:20260420T144106
CREATED:20220105T161745Z
LAST-MODIFIED:20220215T103350Z
UID:4421-1645306200-1645306200@hangar11.co.il
SUMMARY:נטע ברזילי
DESCRIPTION:לראשונה בישראל\, נטע ברזילי במופע בכורה! אורח מיוחד: טונה \nלאחר שלוש שנים של הופעות מסביב לעולם\, שירים שכיכבו במצעדים הגדולים בארץ ובחו״ל\, שבירת שיאים עם מאות מיליוני צפיות והשמעות\, הישג מדהים של הזמרת הראשונה בישראל עם יותר ממיליון מנויים ביוטיוב וחתימה בחברת התקליטים Disney Music S-curve\, הזמרת הבינלאומית נטע ברזילי שוב מפתיעה אותנו\, ומביאה הביתה בפעם הראשונה – מופע להקה חדש! \nהמופע החדש שיעלה לראשונה בארה״ב\, הגיע תוך 4 ימים ל- SOLD OUT! \nהלהיטים “באסה סבבה”\, “אפס מאמץ “CEO”\, ” ועוד\, הפתעות וביצועים שאף פעם לא נשמעו\, וספקטאקל ויזואלי ייחודי וחד פעמי\, כמו שרק נטע יודעת לעשות. \nנטע: “חיכיתי וחיכיתי\, אספתי וכתבתי\, גדלתי וגדלתם איתי\, ועכשיו זה מרגיש נכון. אני רוצה להזמין אתכם להופעה הפתוחה הראשונה שלי בישראל וזו בעצם הפעם הראשונה שאני אפגוש אתכם באמת. לקח לי רגע להבין את המקום הבימתי שלי\, זה היה חתיכת מסע\, הופעתי עם רקדנים\, תזמורות\, ובעיקר לבד על הבמות הגדולות בעולם ועכשיו זה מרגיש לי שלם לחזור למקום ממנו אני באה – להקה. אני מביאה איתי סוללה של אנשי צוות\, חברים ומוזיקאים מהראשונים במעלה\, שבאים לחולל איתי את הקסם והחשמל שקורים בהופעה\, עם מוזיקאים אמיתיים שאי אפשר להחליף (לא משנה כמה ניסיתי)״. \n״אתם כבר מכירים אותי זמן מה מרחוק\, אז אתם יודעים שאפשר לצפות להפתעות! אורחת משגעת\, שירים שטרם שוחררו\, ובעיקר המון אלתורים וחשמל שיכולים לקרות רק באופן חד פעמי״. \n
URL:https://hangar11.co.il/events/event/%d7%a0%d7%98%d7%a2-%d7%91%d7%a8%d7%96%d7%99%d7%9c%d7%99/
LOCATION:האנגר 11\, יורדי הסירה 1\, תל אביב\, Israel
CATEGORIES:גולדסטאר סאונד סיסטם,מיינסטרים,פופ ישראלי,רוק ישראלי
ATTACH;FMTTYPE=image/jpeg:https://hangar11.co.il/events/wp-content/uploads/2022/01/netta-tuna-e1644537006647.jpg
END:VEVENT
END:VCALENDAR