BEGIN:VCALENDAR
VERSION:2.0
PRODID:-//האנגר 11 - ECPv4.9.10//NONSGML v1.0//EN
CALSCALE:GREGORIAN
METHOD:PUBLISH
X-WR-CALNAME:האנגר 11
X-ORIGINAL-URL:https://hangar11.co.il/events
X-WR-CALDESC:Events for האנגר 11
BEGIN:VTIMEZONE
TZID:Asia/Jerusalem
BEGIN:DAYLIGHT
TZOFFSETFROM:+0200
TZOFFSETTO:+0300
TZNAME:IDT
DTSTART:20170324T000000
END:DAYLIGHT
BEGIN:STANDARD
TZOFFSETFROM:+0300
TZOFFSETTO:+0200
TZNAME:IST
DTSTART:20171028T230000
END:STANDARD
END:VTIMEZONE
BEGIN:VEVENT
DTSTART;TZID=Asia/Jerusalem:20170122T210000
DTEND;TZID=Asia/Jerusalem:20170122T210000
DTSTAMP:20260419T234435
CREATED:20170119T131452Z
LAST-MODIFIED:20170119T134112Z
UID:819-1485118800-1485118800@hangar11.co.il
SUMMARY:סיוון רהב מאיר- סדרת הרצאות על אקטואליה ופרשת השבוע
DESCRIPTION:השיעור השבועי של סיון רהב מאיר באולם הפדרציה \nמכירת הכרטיסים תתבצע בקופה שבכניסה לאולם. \nמחיר כרטיס 30 ש"ח כולל כיבוד קל. \n
URL:https://hangar11.co.il/events/event/%d7%a1%d7%99%d7%95%d7%95%d7%9f-%d7%a8%d7%94%d7%91-%d7%9e%d7%90%d7%99%d7%a8-%d7%a1%d7%93%d7%a8%d7%aa-%d7%94%d7%a8%d7%a6%d7%90%d7%95%d7%aa-%d7%a2%d7%9c-%d7%90%d7%a7%d7%98%d7%95%d7%90%d7%9c%d7%99%d7%94/
ATTACH;FMTTYPE=image/jpeg:https://hangar11.co.il/events/wp-content/uploads/2016/12/סדרת-הרצאות-פש-וארא-לפייס.jpg
END:VEVENT
END:VCALENDAR