BEGIN:VCALENDAR
VERSION:2.0
PRODID:-//האנגר 11 - ECPv4.9.10//NONSGML v1.0//EN
CALSCALE:GREGORIAN
METHOD:PUBLISH
X-WR-CALNAME:האנגר 11
X-ORIGINAL-URL:https://hangar11.co.il/events
X-WR-CALDESC:Events for האנגר 11
BEGIN:VTIMEZONE
TZID:Asia/Jerusalem
BEGIN:DAYLIGHT
TZOFFSETFROM:+0200
TZOFFSETTO:+0300
TZNAME:IDT
DTSTART:20200327T000000
END:DAYLIGHT
BEGIN:STANDARD
TZOFFSETFROM:+0300
TZOFFSETTO:+0200
TZNAME:IST
DTSTART:20201024T230000
END:STANDARD
END:VTIMEZONE
BEGIN:VEVENT
DTSTART;TZID=Asia/Jerusalem:20200222T210000
DTEND;TZID=Asia/Jerusalem:20200222T230000
DTSTAMP:20260420T084321
CREATED:20191110T141619Z
LAST-MODIFIED:20200121T101408Z
UID:3460-1582405200-1582412400@hangar11.co.il
SUMMARY:עברי לידר
DESCRIPTION:עברי לידר – מהזמרים והיוצרים המובילים והבולטים בצמרת המוסיקה הישראלית\, מגיע להופעה אחת בלבד בהאנגר 11  עם מופע מלא בהפתעות וריגושים . \nאז מה יהיה לנו שם? \nנתחיל עם הלהקה …\nנמשיך עם הפסנתר …\nונסיים עם המופע האלקטרוני ועם DJ תומר מייזנר. \nבא לכם להרים איתנו ? בא לכם לעוף  איתנו ? \nעברי לידר\, לרקוד עם דמעות בעיניים .  – המופע הכי חם של החורף  – חוויה בלתי נשכחת שתשאיר אתכם שמחים\, מאושרים\, נרגשים והכי חשוב אוהבים ומאוהבים . \nפשוט אסור להחמיץ! \n
URL:https://hangar11.co.il/events/event/%d7%a2%d7%91%d7%a8%d7%99-%d7%9c%d7%99%d7%93%d7%a8-2/
LOCATION:האנגר 11\, Israel
CATEGORIES:מיינסטרים,מסיבה
ATTACH;FMTTYPE=image/jpeg:https://hangar11.co.il/events/wp-content/uploads/2019/11/75642388_10157808202013139_7824568314591444992_o.jpg
GEO:32.0964756;34.7740091
END:VEVENT
END:VCALENDAR