BEGIN:VCALENDAR
VERSION:2.0
PRODID:-//האנגר 11 - ECPv4.9.10//NONSGML v1.0//EN
CALSCALE:GREGORIAN
METHOD:PUBLISH
X-WR-CALNAME:האנגר 11
X-ORIGINAL-URL:https://hangar11.co.il/events
X-WR-CALDESC:Events for האנגר 11
BEGIN:VTIMEZONE
TZID:Asia/Jerusalem
BEGIN:DAYLIGHT
TZOFFSETFROM:+0200
TZOFFSETTO:+0300
TZNAME:IDT
DTSTART:20170324T000000
END:DAYLIGHT
BEGIN:STANDARD
TZOFFSETFROM:+0300
TZOFFSETTO:+0200
TZNAME:IST
DTSTART:20171028T230000
END:STANDARD
END:VTIMEZONE
BEGIN:VEVENT
DTSTART;TZID=Asia/Jerusalem:20170124T220000
DTEND;TZID=Asia/Jerusalem:20170124T220000
DTSTAMP:20260424T214636
CREATED:20161201T120405Z
LAST-MODIFIED:20170113T232347Z
UID:756-1485295200-1485295200@hangar11.co.il
SUMMARY:עדן בן זקן עם המופע החדש - מופע שלישי Sold Out!
DESCRIPTION:עקב הביקוש הרב – מופע נוסף! \nעדן בן זקן\, זמרת השנה\, מחזיקה באמתחתה את שרשרת הלהיטים הגדולה של השנה החולפת: "מנגינה"\, "מלכת השושנים"\, "שיכורים מאהבה"\, "פיסה מזיכרוני"\, "שורף לי בעיניים"\, "אלבינה"\, "תאמין לי"\, "כל העיר שלנו" (עם פאר טסי) כולם כבשו כל פלייליסט אפשרי והפכו את המדינה\, כשאלבום הבכורה "מלכת השושנים" הגיע תוך שבועות בודדים למעמד של אלבום פלטינה (למעלה מ 30\,000 עותקים פיזיים)\, ולמעמד של פלטינה מרובעת של אלבומים דיגיטליים (120\,000 הורדות) ועשרות  מליוני צפיות ביו טיוב בחודשים ספורים בלבד. \nתוך שנה הפכה לסנסציה אדירה\, ולזמרת הכי חמה בתעשיית המוסיקה בישראל\, כשבדרך היא קוטפת כל תואר אפשרי\, בניהם זמרת השנה של ישראל. \nעכשיו היא חובקת אלבום שני\, "תאמין לי" בו לוקחים חלק מיטב הכותבים\, מלחינים ומעבדים בניהם: יעקב למאי\, דולב רם\, פן חזות\, דנה לפידות\, תמר יהלומי\, דודו קומה\, אופיר כהן\, אלי קשת\, גילי זכאי\, ירון כהן\, ינון יהל\, הראל סנדרוסי. \nהאלבום כולל 13 שירים חדשים\, שירים קצביים וכיפיים שכובשים את הרחבות\, לצד בלדות מרגשות ועוצמתיות שחודרות ישר ללב. \nעם יציאת האלבום אנו שמחים לבשר כי מופע ההשקה חגיגי שייערך ב 19 בנובמבר בהאנגר 11 – SOLD OUT! \nעדן בן זקן: \n"שנה של עבודה אינטנסיבית בבחירת שירים\, הקלטות והופעות התגבשו לאלבום חדש ושני עם 13 שירים חדשים\, תהליך מאוד מרגש\, ותוצאה שאני מאוד שלמה ואוהבת. \nעל האלבום עבדתי עם יוצרים מוכשרים בטירוף שגרמו לתהליך האינטנסיבי להיות מהנה ומאתגר\, זה אחד האלבומים שהכי נהנתי להקליט ואני מחכה כבר לבצע את השירים החדשים על הבמה בהופעות הקרובות" \n
URL:https://hangar11.co.il/events/event/%d7%a2%d7%93%d7%9f-%d7%91%d7%9f-%d7%96%d7%a7%d7%9f-%d7%a2%d7%9d-%d7%94%d7%9e%d7%95%d7%a4%d7%a2-%d7%94%d7%97%d7%93%d7%a9-%d7%9e%d7%95%d7%a4%d7%a2-%d7%a0%d7%95%d7%a1%d7%a3-copy/
LOCATION:האנגר 11\, Israel
ATTACH;FMTTYPE=image/jpeg:https://hangar11.co.il/events/wp-content/uploads/2016/11/eden-ben-zaken-2nd-show.jpg
GEO:32.0964756;34.7740091
END:VEVENT
END:VCALENDAR