BEGIN:VCALENDAR
VERSION:2.0
PRODID:-//האנגר 11 - ECPv4.9.10//NONSGML v1.0//EN
CALSCALE:GREGORIAN
METHOD:PUBLISH
X-WR-CALNAME:האנגר 11
X-ORIGINAL-URL:https://hangar11.co.il/events
X-WR-CALDESC:Events for האנגר 11
BEGIN:VTIMEZONE
TZID:Asia/Jerusalem
BEGIN:DAYLIGHT
TZOFFSETFROM:+0200
TZOFFSETTO:+0300
TZNAME:IDT
DTSTART:20200327T000000
END:DAYLIGHT
BEGIN:STANDARD
TZOFFSETFROM:+0300
TZOFFSETTO:+0200
TZNAME:IST
DTSTART:20201024T230000
END:STANDARD
END:VTIMEZONE
BEGIN:VEVENT
DTSTART;TZID=Asia/Jerusalem:20200125T210000
DTEND;TZID=Asia/Jerusalem:20200125T210000
DTSTAMP:20260420T162229
CREATED:20191118T092535Z
LAST-MODIFIED:20200123T125046Z
UID:3532-1579986000-1579986000@hangar11.co.il
SUMMARY:עידן חביב מארח את ריטה
DESCRIPTION:לאחר סיבוב קיץ מרגש ומוצלח\, מעלה עידן חביב מופע חדש במסגרת פסטיבל "גולדסטאר סאונדסיסטם – מנגנים אלבומים" \nובו כל שירי אלבומו השני "לאבד עניין בזמן". \nהאלבום שיצא בשנת 2013\, הגיע למעמד אלבום זהב\, חשף את השירה השבירה והטקסטים של עידן חביב במלוא עוצמתם ושם\nאת עידן באופן רשמי על מפת המוזיקה בישראל. \nבמופע ישלב עידן שירים נוספים ואהובים מאלבומיו האחרים וכמובן יארח לראשונה את ריטה\, מהזמרות האהובות והמצליחות\nבישראל\, באירוח מהמסקרנים שיש לפסטיבל זה להציע. \nעידן מגיש מופע אחר בנוף הישראלי\, מופע המשלב וידאו – ארט שכולו יצירה אישית של עידן והינו חלק בלתי נפרד מהחוויה המיוחדת. \nעכשיו או לעולם\, כמו כל יום\, אור אדום\, מחכה\, לה בוהם\, מחשבות על אהבה\, אין כבר סתם\, רודף אהבה בימים ועוד… \n
URL:https://hangar11.co.il/events/event/%d7%a2%d7%99%d7%93%d7%9f-%d7%97%d7%91%d7%99%d7%91-%d7%9e%d7%90%d7%a8%d7%97-%d7%90%d7%aa-%d7%a8%d7%99%d7%98%d7%94/
LOCATION:האנגר 11\, Israel
CATEGORIES:גולדסטאר סאונד סיסטם,עידן חביב
ATTACH;FMTTYPE=image/jpeg:https://hangar11.co.il/events/wp-content/uploads/2019/11/show_pic19384_img_1.jpg
GEO:32.0964756;34.7740091
END:VEVENT
END:VCALENDAR