BEGIN:VCALENDAR
VERSION:2.0
PRODID:-//האנגר 11 - ECPv4.9.10//NONSGML v1.0//EN
CALSCALE:GREGORIAN
METHOD:PUBLISH
X-WR-CALNAME:האנגר 11
X-ORIGINAL-URL:https://hangar11.co.il/events
X-WR-CALDESC:Events for האנגר 11
BEGIN:VTIMEZONE
TZID:Asia/Jerusalem
BEGIN:DAYLIGHT
TZOFFSETFROM:+0200
TZOFFSETTO:+0300
TZNAME:IDT
DTSTART:20170324T000000
END:DAYLIGHT
BEGIN:STANDARD
TZOFFSETFROM:+0300
TZOFFSETTO:+0200
TZNAME:IST
DTSTART:20171028T230000
END:STANDARD
END:VTIMEZONE
BEGIN:VEVENT
DTSTART;TZID=Asia/Jerusalem:20170216T213000
DTEND;TZID=Asia/Jerusalem:20170216T213000
DTSTAMP:20260425T000240
CREATED:20161204T221027Z
LAST-MODIFIED:20170128T141521Z
UID:761-1487280600-1487280600@hangar11.co.il
SUMMARY:עידן עמדי ואורחים
DESCRIPTION:מופע השקה חגיגי. אורחים מיוחדים: מירי מסיקה\, יובל דיין וחנן בן ארי\nעידן עמדי הפך לאחד מהזמרים והיוצרים המצליחים והמוערכים בתעשיית המוסיקה בישראל בעשור האחרון.\nהוא מחזיק באמתחתו שרשרת להיטי ענק: "כאב של לוחמים"\, "תשליך"\, "אלייך"\, "נגמר"\, "בזמן האחרון"\, "קול זיכרון ישן" ועוד רבים וטובים. שירים שהפכו לאבן דרך במוסיקה הישראלית. \nשלושת האלבומים הקודמים מכרו עשרות אלפי עותקים והעניקו לו פרסי מוסיקה רבים בניהם: אמן השנה\, שיר השנה\, בכל תחנות הרדיו ואף הגיעו למעמד של אלבומי זהב. \nאת שנת 2017 הוא פותח עם אלבום חדש ורביעי "חלק מהזמן"\, עליו עבד יחד עם המפיק והמעבד המוסיקלי פטריק סבג. האלבום כולל את הסינגלים המצליחים: "עכשיו כולם רוקדים"\, "עד שיעלה היום הבא"\, ושיר הנושא "חלק מהזמן" שהפכו ללהיטי ענק בתחנות הרדיו והמדיה. \n"אמיתי לגמרי\, פשוט וכובש\, ללא גינונים\, ללא קשקושים… כבר לא עושים זמרים\, ואנשים בכלל\, מהחומר הזה\, של ענווה מופלגת. פשוט זמר נהדר" עמוס אורן\n"מנגינת ליבו פוגשת את מיתרי קולו\, והם שווים" יוסי חרסונסקי\n"לפעמים הדבר הכי טוב\, הכי מרגש והכי אמיתי\, הוא גם הכי פשוט. עידן עמדי הוא\, לטעמי\, האמן הצעיר הכי "ישראלי" שפועל כיום" אסף נבו\, MAKO \nאת צאת האלבום ילווה מופע השקה חגיגי שייערך ב-16/2/2017 בהאנגר 11\, אורחים מיוחדים: מירי מסיקה\, יובל דיין וחנן בן ארי \n
URL:https://hangar11.co.il/events/event/%d7%a2%d7%99%d7%93%d7%9f-%d7%a2%d7%9e%d7%93%d7%99-%d7%95%d7%90%d7%95%d7%a8%d7%97%d7%99%d7%9d/
LOCATION:האנגר 11\, Israel
ATTACH;FMTTYPE=image/jpeg:https://hangar11.co.il/events/wp-content/uploads/2016/12/idan-AMEDI-1070X375.jpg
GEO:32.0964756;34.7740091
END:VEVENT
END:VCALENDAR