BEGIN:VCALENDAR
VERSION:2.0
PRODID:-//האנגר 11 - ECPv4.9.10//NONSGML v1.0//EN
CALSCALE:GREGORIAN
METHOD:PUBLISH
X-WR-CALNAME:האנגר 11
X-ORIGINAL-URL:https://hangar11.co.il/events
X-WR-CALDESC:Events for האנגר 11
BEGIN:VTIMEZONE
TZID:Asia/Jerusalem
BEGIN:DAYLIGHT
TZOFFSETFROM:+0200
TZOFFSETTO:+0300
TZNAME:IDT
DTSTART:20190329T000000
END:DAYLIGHT
BEGIN:STANDARD
TZOFFSETFROM:+0300
TZOFFSETTO:+0200
TZNAME:IST
DTSTART:20191026T230000
END:STANDARD
END:VTIMEZONE
BEGIN:VEVENT
DTSTART;TZID=Asia/Jerusalem:20190328T210000
DTEND;TZID=Asia/Jerusalem:20190328T210000
DTSTAMP:20260420T212653
CREATED:20190110T131616Z
LAST-MODIFIED:20190223T190656Z
UID:2905-1553806800-1553806800@hangar11.co.il
SUMMARY:עידן עמדי
DESCRIPTION:עידן עמדי \n  \nעידן עמדי\,  מהזמרים והיוצרים המצליחים והמוערכים\, בתעשיית המוסיקה בישראל\, בעשור האחרון. \nעם שירים שהפכו לאבן דרך במוסיקה הישראלית. "כאב של לוחמים" (מקום *1* במצעד ה-70 של גלגל"צ)\, "תשליך"\, "אלייך"\, "נגמר"\, "בזמן האחרון"\, "חלק מהזמן" \, "עכשיו כולם רוקדים"  ועוד רבים וטובים… \nבהופעה בה השירים מ- 4 אלבומיו המצליחים שמכרו למעלה מ 100\,000 עותקים שהגיעו למעמד אלבומי זהב \, אלבומו הרביעי – "חלק מהזמן" הגיע למעמד של אלבום פלטינה על מכירה של למעלה מ 40\,000 עותקים !!! \nעידן עמדי והלהקה ממשיכים את הופעות 2019 לאחר סיבוב הופעות בכל הארץ שכלל 11 היכלי תרבות מצפון לדרום אותו המשיך עם הופעות ענק ב: אמפי קיסריה\, אמפי בית גוברין \, בריכת הסולטן\, זאפה לייב פארק… בהם נמכרו כל הכרטיסים מראש (SOLD-OUT) \n
URL:https://hangar11.co.il/events/event/%d7%a2%d7%99%d7%93%d7%9f-%d7%a2%d7%9e%d7%93%d7%99/
LOCATION:האנגר 11\, Israel
ATTACH;FMTTYPE=image/jpeg:https://hangar11.co.il/events/wp-content/uploads/2019/01/kupot-1000x715-hangar11.jpg
GEO:32.0964756;34.7740091
END:VEVENT
END:VCALENDAR