BEGIN:VCALENDAR
VERSION:2.0
PRODID:-//האנגר 11 - ECPv4.9.10//NONSGML v1.0//EN
CALSCALE:GREGORIAN
METHOD:PUBLISH
X-WR-CALNAME:האנגר 11
X-ORIGINAL-URL:https://hangar11.co.il/events
X-WR-CALDESC:Events for האנגר 11
BEGIN:VTIMEZONE
TZID:Asia/Jerusalem
BEGIN:DAYLIGHT
TZOFFSETFROM:+0200
TZOFFSETTO:+0300
TZNAME:IDT
DTSTART:20160325T000000
END:DAYLIGHT
BEGIN:STANDARD
TZOFFSETFROM:+0300
TZOFFSETTO:+0200
TZNAME:IST
DTSTART:20161029T230000
END:STANDARD
END:VTIMEZONE
BEGIN:VEVENT
DTSTART;TZID=Asia/Jerusalem:20160115T140000
DTEND;TZID=Asia/Jerusalem:20160115T140000
DTSTAMP:20260420T155307
CREATED:20151211T193930Z
LAST-MODIFIED:20151211T193930Z
UID:598-1452866400-1452866400@hangar11.co.il
SUMMARY:עילי בוטנר וילדי החוץ ואורחים: אמיר דדון ונתן גושן
DESCRIPTION:גולדסטאר סאונד סיסטם\, פסטיבל החורף המוביל כבר למעלה מעשור חוזר !\nמיטב המופעים החמים בישראל תחת קורת גג אחת. \nמופע צהריים \nאורחים מיוחדים: נתן גושן ואמיר דדון \nהיה זה בשנת 2011\, כאשר החל עילי בוטנר במלאכת הקמת הרכב ושמו "ילדי החוץ". אסופת השירים החדשה שכתב חייבה מציאת זמר וזמרת אשר יוכלו לחלוק ביניהם את שירי הסולו באמינות רבה\, כחלק מתהליך הקלטת האלבום. אדר גולד\, אוהד שרגאי…. נגנים מוכשרים\, שלל שירים חדשים יותר ולהיטים חדשים פחות….וקדימה הלאה!\nשנים לאחר מכן ניתן לומר בבטחה שאף אחד\, גם לא עילי עצמו\, יכול היה לצפות את ההצלחה הגדולה אשר חיכתה להרכב ממש מעבר לפינה: ארבע שנים על הבמות בכל רחבי הארץ\, מאות הופעות\, שרשרת של 9 (!!!) סינגלים חדשים(!!!) ברצף (!) נכנסו לפלייליסטים השונים\, כבשו את לב המדיה והמאזינים כאחד\, והפכו ללהיטים מוכרים ואהובים בכל בית : רץ אלייך\, תתן לי יד\, תם ולא נשלם\, נעים עכשיו\, קדימה הלאה\, בוקר יעלה\, תצרח\, על קצות האצבעות וטיפות – לראשונה בביצוע של בוטנר עצמו !\nאז….איך חוגגים את כל זה\, ועשר שנות יצירה?! באלבום אוסף כפול (אשר ראה אור במרץ 2015) ובו כל ביצועי האולפן המקוריים של להיטי עילי בוטנר \,לצד אלבום הופעה חיה המתעד את ההיסטריה של ארבע השנים האחרונות סביב "עילי בוטנר וילדי החוץ". האלבום זיכה את ההרכב במצעדים השנתיים בתואר "הרכב השנה של רשת ג'" וזכייה ב"אלבום האוסף הישראלי הכי מושמע" מטעם מדיה פורסט\, נוסף על זכיות קודמות בפרס "אנשי השנה" של גלגל"צ וואי-נט…\nועכשיו – לאחר הקיץ הרביעי (!!!) של סיבוב הופעות הממאן לעצור ולנוח… ולאור ביקוש בלתי פוסק מצד הקהל\, בוטנר וההרכב ממשיכים עם "ימים של חורף"\, טור חורפי ובהרכב מגובה ומחוזק (תשעה נגנים וזמרים על במה אחת!!!). המופע כולל את כל הלהיטים מכל הזמנים\, מ"שווים" ועד "טיפות"\, מ"מכתב לאחי" (בסוף הדרך עוד תהיה מאושר) ועד "תם ולא נשלם"….עם מצגת תאורה ייחודית ומושקעת. זו המסיבה הענקית שלא תתן לכם לשבת ולו לרגע!! \n
URL:https://hangar11.co.il/events/event/%d7%a2%d7%99%d7%9c%d7%99-%d7%91%d7%95%d7%98%d7%a0%d7%a8-%d7%95%d7%99%d7%9c%d7%93%d7%99-%d7%94%d7%97%d7%95%d7%a5-%d7%95%d7%90%d7%95%d7%a8%d7%97%d7%99%d7%9d-%d7%90%d7%9e%d7%99%d7%a8-%d7%93%d7%93%d7%95/
LOCATION:favicon
ATTACH;FMTTYPE=:
END:VEVENT
END:VCALENDAR