BEGIN:VCALENDAR
VERSION:2.0
PRODID:-//האנגר 11 - ECPv4.9.10//NONSGML v1.0//EN
CALSCALE:GREGORIAN
METHOD:PUBLISH
X-WR-CALNAME:האנגר 11
X-ORIGINAL-URL:https://hangar11.co.il/events
X-WR-CALDESC:Events for האנגר 11
BEGIN:VTIMEZONE
TZID:Asia/Jerusalem
BEGIN:DAYLIGHT
TZOFFSETFROM:+0200
TZOFFSETTO:+0300
TZNAME:IDT
DTSTART:20200327T000000
END:DAYLIGHT
BEGIN:STANDARD
TZOFFSETFROM:+0300
TZOFFSETTO:+0200
TZNAME:IST
DTSTART:20201024T230000
END:STANDARD
END:VTIMEZONE
BEGIN:VEVENT
DTSTART;TZID=Asia/Jerusalem:20200123T210000
DTEND;TZID=Asia/Jerusalem:20200123T210000
DTSTAMP:20260420T133348
CREATED:20191118T092247Z
LAST-MODIFIED:20200123T125021Z
UID:3529-1579813200-1579813200@hangar11.co.il
SUMMARY:עילי בוטנר וילדי החוץ מארחים את שירי מימון ואביב אלוש
DESCRIPTION:בשנתיים האחרונות\, כהמשך ישיר לקריירה פורייה ומצליחה של יותר מ-15 שנים\, הקליט עילי בוטנר כמה סינגלים שהפכו ללהיטים אהובים\, ובימים אלה אוגדו למיני-אלבום חדש – "הכי קרוב אלייך". במיני-אלבום שם בוטנר דגש על שיתופי פעולה חדשים\, שנרקמו והוקלטו במקביל להוצאת שני האלבומים האחרונים ולמאות ההופעות ברחבי הארץ עם ההרכב של "ילדי החוץ" – אדר גולד\, אוהד שרגאי ותום גפן. \nבוטנר\, מצא את הזמן להקלטות האחרונות בין הופעות קיץ ענקיות בקיסריה\, תוך כדי הכנות לסבב של מופע חורף אקוסטי חדש בשם "טיפות" עם ילדי החוץ\, ובמקביל לכתיבה והלחנה של שירי המחזמר הלוהט "אפס ביחסי אנוש" (תיאטרון בית ליסין) ועבודה על פסקול לסרט קולנוע. \n הקריירה של בוטנר התאפיינה מאז ומעולם בחיבורים מעניינים\, ביניהם רן דנקר\, נינט\, קובי אפללו\, ריטה\, הראל סקעת\, נורית גלרון\, גלי עטרי\, מוש בן ארי\, כפיר בן ליש\, הפרברים ועוד. במיני-אלבום החדש נכללים השירים והחיבורים הבאים: \n"הכי קרוב אליך" – עם אביב אלוש \n"כל יום" – עם אביב אלוש \n"אוטובוס אחרון לחיפה" – עם משי קלינשטיין \n"איך מסבירים געגוע" – עם קובי אפללו \n"אחות" – עם מגי אזרזר ומשי קלינשטיין (מתוך המחזמר "אפס ביחסי אנוש") \nושיר נוסף חדש – בהפתעה! \nאת האלבום החדש ישיק עילי בוטנר במופע חגיגי וחד פעמי ביחד עם ילדי החוץ (אדר גולד\, אוהד שרגאי ותום גפן)\, אביב אלוש ואורחים נוספים \n
URL:https://hangar11.co.il/events/event/%d7%a2%d7%99%d7%9c%d7%99-%d7%91%d7%95%d7%98%d7%a0%d7%a8-%d7%95%d7%99%d7%9c%d7%93%d7%99-%d7%94%d7%97%d7%95%d7%a5-%d7%9e%d7%90%d7%a8%d7%97%d7%99%d7%9d-%d7%90%d7%aa-%d7%90%d7%91%d7%99%d7%91-%d7%90%d7%9c/
LOCATION:האנגר 11\, Israel
CATEGORIES:גולדסטאר סאונד סיסטם,עילי בוטנר
ATTACH;FMTTYPE=image/jpeg:https://hangar11.co.il/events/wp-content/uploads/2019/11/show_pic19383_img_4.jpg
GEO:32.0964756;34.7740091
END:VEVENT
END:VCALENDAR