BEGIN:VCALENDAR
VERSION:2.0
PRODID:-//האנגר 11 - ECPv4.9.10//NONSGML v1.0//EN
CALSCALE:GREGORIAN
METHOD:PUBLISH
X-WR-CALNAME:האנגר 11
X-ORIGINAL-URL:https://hangar11.co.il/events
X-WR-CALDESC:Events for האנגר 11
BEGIN:VTIMEZONE
TZID:Asia/Jerusalem
BEGIN:DAYLIGHT
TZOFFSETFROM:+0200
TZOFFSETTO:+0300
TZNAME:IDT
DTSTART:20160325T000000
END:DAYLIGHT
BEGIN:STANDARD
TZOFFSETFROM:+0300
TZOFFSETTO:+0200
TZNAME:IST
DTSTART:20161029T230000
END:STANDARD
END:VTIMEZONE
BEGIN:VEVENT
DTSTART;TZID=Asia/Jerusalem:20160607T190000
DTEND;TZID=Asia/Jerusalem:20160607T220000
DTSTAMP:20260420T072713
CREATED:20160605T134605Z
LAST-MODIFIED:20160605T134605Z
UID:632-1465326000-1465336800@hangar11.co.il
SUMMARY:עמותת בוגר 8200 כנס הNETWORKING השנתי
DESCRIPTION:עמדות הרישום כבר מוכנות\, הכיסאות מסודרים ואם תקשיבו טוב תשמעו את מוקי עושה באלנס… ביום שלישי זה קורה! הכנס השנתי של עמותת בוגרי 8200.\nכבר נרשמתם? https://www.8200.org.il/conf2016.html \n
URL:https://hangar11.co.il/events/event/%d7%a2%d7%9e%d7%95%d7%aa%d7%aa-%d7%91%d7%95%d7%92%d7%a8-8200-%d7%9b%d7%a0%d7%a1-%d7%94networking-%d7%94%d7%a9%d7%a0%d7%aa%d7%99/
LOCATION:favicon
ATTACH;FMTTYPE=:
END:VEVENT
END:VCALENDAR