BEGIN:VCALENDAR
VERSION:2.0
PRODID:-//האנגר 11 - ECPv4.9.10//NONSGML v1.0//EN
CALSCALE:GREGORIAN
METHOD:PUBLISH
X-WR-CALNAME:האנגר 11
X-ORIGINAL-URL:https://hangar11.co.il/events
X-WR-CALDESC:Events for האנגר 11
BEGIN:VTIMEZONE
TZID:Asia/Jerusalem
BEGIN:DAYLIGHT
TZOFFSETFROM:+0200
TZOFFSETTO:+0300
TZNAME:IDT
DTSTART:20190329T000000
END:DAYLIGHT
BEGIN:STANDARD
TZOFFSETFROM:+0300
TZOFFSETTO:+0200
TZNAME:IST
DTSTART:20191026T230000
END:STANDARD
END:VTIMEZONE
BEGIN:VEVENT
DTSTART;TZID=Asia/Jerusalem:20191104T193000
DTEND;TZID=Asia/Jerusalem:20191104T193000
DTSTAMP:20260419T214124
CREATED:20191017T114040Z
LAST-MODIFIED:20191017T114040Z
UID:3379-1572895800-1572895800@hangar11.co.il
SUMMARY:ערב גאלה של עמותת חום   עם יהודה פוליקר
DESCRIPTION:הערב מיועד לתורמים מינימום 3000 ש"ח לזוג. \nמטרת האירוע לגייס תרומות לרכישת סלי מזון ותווי קניה לנזקקים לחג. \nאנה שתפו והשתתפו\, ונשמח לראותכם. \nטלפנו 8635* והבטיחו את \n תרומתכם לחג \nהתרומה ניתנת לזיכוי במס \nבישראל (סעיף 46)\, ובארה"ב \n
URL:https://hangar11.co.il/events/event/%d7%a2%d7%a8%d7%91-%d7%92%d7%90%d7%9c%d7%94-%d7%a9%d7%9c-%d7%a2%d7%9e%d7%95%d7%aa%d7%aa-%d7%97%d7%95%d7%9d-%d7%a2%d7%9d-%d7%99%d7%94%d7%95%d7%93%d7%94-%d7%a4%d7%95%d7%9c%d7%99%d7%a7%d7%a8/
LOCATION:האנגר 11\, Israel
CATEGORIES:אירוע התרמה
ATTACH;FMTTYPE=image/jpeg:https://hangar11.co.il/events/wp-content/uploads/2019/10/ברשור-עמותת-חום-פוליקר.jpg
GEO:32.0964756;34.7740091
END:VEVENT
END:VCALENDAR