BEGIN:VCALENDAR
VERSION:2.0
PRODID:-//האנגר 11 - ECPv4.9.10//NONSGML v1.0//EN
CALSCALE:GREGORIAN
METHOD:PUBLISH
X-WR-CALNAME:האנגר 11
X-ORIGINAL-URL:https://hangar11.co.il/events
X-WR-CALDESC:Events for האנגר 11
BEGIN:VTIMEZONE
TZID:Asia/Jerusalem
BEGIN:DAYLIGHT
TZOFFSETFROM:+0200
TZOFFSETTO:+0300
TZNAME:IDT
DTSTART:20220325T000000
END:DAYLIGHT
BEGIN:STANDARD
TZOFFSETFROM:+0300
TZOFFSETTO:+0200
TZNAME:IST
DTSTART:20221029T230000
END:STANDARD
END:VTIMEZONE
BEGIN:VEVENT
DTSTART;TZID=Asia/Jerusalem:20221108T200000
DTEND;TZID=Asia/Jerusalem:20221108T200000
DTSTAMP:20260419T144025
CREATED:20221020T085945Z
LAST-MODIFIED:20221108T111916Z
UID:5116-1667937600-1667937600@hangar11.co.il
SUMMARY:חגיגה יוונית בנמל תל אביב
DESCRIPTION:יאסו! ערב יווני בנמל תל אביב!\nנמל תל אביב שמח להזמינכם למופע טברנה יוונית.\nיעקב סמרי ו"הלהקה היוונית שלי"\, מארחים את גריגוריס חלאציס\, אשף הבוזוקי מיוון במופע להיטים מכל הזמנים של SAMARIS // VAGGELIS // GRIGORIS \nחגיגה יוונית עם זמרים\, נגנים\, ורקדנים בשירי נוסטלגיה שעשו עליה מיוון לישראל \, שירי אריס סאן ועוד להיטים\, רפרטואר כמו בטברנות האיכותיות של סמטאות יוון. \n* יום שלישי\, 8 בנובמבר\nבשעה 20:00 \, האנגר 11\, נמל תל-אביב (פתיחת דלתות בשעה 19:00) \nמחיר כרטיס: 30 ש"ח (מסובסד) \n* מספר המקומות מוגבל * \n
URL:https://hangar11.co.il/events/event/%d7%a2%d7%a8%d7%91-%d7%99%d7%95%d7%95%d7%a0%d7%99-%d7%91%d7%a0%d7%9e%d7%9c-%d7%aa%d7%9c-%d7%90%d7%91%d7%99%d7%91/
LOCATION:אולם האנגר קלאב – מתחם האנגר 11\, אולם הפדרציה\, נמל תל אביב\, תל אביב
CATEGORIES:מזרחית
ATTACH;FMTTYPE=image/jpeg:https://hangar11.co.il/events/wp-content/uploads/2022/10/16912_1_greek_banner.jpg
GEO:32.0964825;34.7732737
X-APPLE-STRUCTURED-LOCATION;VALUE=URI;X-ADDRESS=אולם האנגר קלאב – מתחם האנגר 11 אולם הפדרציה נמל תל אביב תל אביב;X-APPLE-RADIUS=500;X-TITLE=אולם הפדרציה\, נמל תל אביב:geo:34.7732737,32.0964825
END:VEVENT
END:VCALENDAR