BEGIN:VCALENDAR
VERSION:2.0
PRODID:-//האנגר 11 - ECPv4.9.10//NONSGML v1.0//EN
CALSCALE:GREGORIAN
METHOD:PUBLISH
X-WR-CALNAME:האנגר 11
X-ORIGINAL-URL:https://hangar11.co.il/events
X-WR-CALDESC:Events for האנגר 11
BEGIN:VTIMEZONE
TZID:Asia/Jerusalem
BEGIN:DAYLIGHT
TZOFFSETFROM:+0200
TZOFFSETTO:+0300
TZNAME:IDT
DTSTART:20220325T000000
END:DAYLIGHT
BEGIN:STANDARD
TZOFFSETFROM:+0300
TZOFFSETTO:+0200
TZNAME:IST
DTSTART:20221029T230000
END:STANDARD
END:VTIMEZONE
BEGIN:VEVENT
DTSTART;TZID=Asia/Jerusalem:20221013T214500
DTEND;TZID=Asia/Jerusalem:20221013T214500
DTSTAMP:20260419T143741
CREATED:20220918T104653Z
LAST-MODIFIED:20220921T085024Z
UID:5073-1665697500-1665697500@hangar11.co.il
SUMMARY:פאר טסי בהאנגר 11
DESCRIPTION:יום חמישי חול המועד סוכות\nאחרי סיבוב הופעות מוצלח ומרגש\, פאר טסי מגיע להאנגר 11 במופע חדש עם כל הלהיטים ויכלול גם את שיריו החדשים.\nצילום: בני רוטלוי \n
URL:https://hangar11.co.il/events/event/%d7%a4%d7%90%d7%a8-%d7%98%d7%a1%d7%99/
LOCATION:האנגר 11\, יורדי הסירה 1\, תל אביב\, Israel
CATEGORIES:מזרחית,מיינסטרים
ATTACH;FMTTYPE=image/jpeg:https://hangar11.co.il/events/wp-content/uploads/2022/09/פאר-טסי.jpg
END:VEVENT
END:VCALENDAR